BEGIN:VCALENDAR
PRODID:RAVE.CA V17.0
X-WR-CALNAME:Tis The Season, Lets Get Messy !
X-ORIGINAL-URL:https://www.rave.ca/event/47516/
VERSION:2.0
CALSCALE:GREGORIAN
METHOD:PUBLISH
BEGIN:VEVENT
DTSTAMP:20140527T201745Z
LAST-MODIFIED:20140527T201745Z
CREATED:20130926T181555Z
SEQUENCE:47516
ORGANIZER:Unknown
DTSTART:20131214T210000Z
DTEND:20131214T050000Z
UID:event_47516@rave.ca
SUMMARY:Tis The Season\, Lets Get Messy !
LOCATION:Unknown
URL:https://www.rave.ca/event/47516/
DESCRIPTION:WaxaddictDjs and eUnderground proudly presents ~\nToronto Ontario Canada .\nTis the season \, Lets get messy ~!\nAnd messy we shall get ! who needs the usual christmas blah's\nso lets get together and let loose .\nBetter yet lets get messy !\n\nLine up :\n\nSmartyz -UK Hardcore\nkanibalz \, Waxaddict djs\nMontreal canada\n\nElixer - Trance\nwww.djelixer.com \, Waxaddict Djs\nToronto Canada\nWww.Soundcloud.com/dj-elixir-2\n\nDj GrOOvEs - AKA Somerandom\,Dj - Uk Hardcore\nWaxaddictDjs \, DBR\, eUnderground\nToronto canada\n\nDj Lazirus - Uk hardcore\nShocker Productions\, Rough Crew\, Waxaddict djs\nOttawa Canada\n\nDj Fallout - Hardsound\nAtomic Soundwave \, eUnderground \, Waxaddict Djs\nToronto Canada\n\nKONTR4IRE - Hardstyle\nDECEIT \, eUnderground .\nToronto Canada\n\nDj nue - Psy\nWaxaddictDjs \, DBR\, eUnderground\nMissisauga Canada .\n\nMore TBA soon !
CLASS:PUBLIC
CATEGORIES:
STATUS:CONFIRMED
PARTSTAT:ACCEPTED
END:VEVENT
END:VCALENDAR
