BEGIN:VCALENDAR
PRODID:RAVE.CA V17.0
X-WR-CALNAME:Dj Nro: Soirée Tech-House
X-ORIGINAL-URL:https://www.rave.ca/event/47419/
VERSION:2.0
CALSCALE:GREGORIAN
METHOD:PUBLISH
BEGIN:VEVENT
DTSTAMP:20130427T202858Z
LAST-MODIFIED:20130427T202858Z
CREATED:20130427T202824Z
SEQUENCE:47419
ORGANIZER:Unknown
DTSTART:20130517T190000Z
DTEND:20130517T230000Z
UID:event_47419@rave.ca
SUMMARY:Dj Nro: Soirée Tech-House
LOCATION:resto les Sottises
URL:https://www.rave.ca/event/47419/
DESCRIPTION:Venez souper à l'excellent resto Les Sottises (http://lessottises.wordpress.com/) en m'écoutant mixer du tech-house\, du techno\, du house et du minimal. Une semaine sur deux...\n\nAu menu musical: tech-house\, techno\, house et minimal.\n\n1777 rue Centre\nMontréal\,QC\nÀ 10 minutes en voiture du centre-ville!\n\nPour réservations: 514-903-2345
CLASS:PUBLIC
CATEGORIES:
STATUS:CONFIRMED
PARTSTAT:ACCEPTED
END:VEVENT
END:VCALENDAR
