BEGIN:VCALENDAR
PRODID:RAVE.CA V17.0
X-WR-CALNAME:Dj Schhol Montreal 1st Night Out
X-ORIGINAL-URL:https://www.rave.ca/event/47354/
VERSION:2.0
CALSCALE:GREGORIAN
METHOD:PUBLISH
BEGIN:VEVENT
DTSTAMP:20130130T030125Z
LAST-MODIFIED:20130130T030125Z
CREATED:20130130T024905Z
SEQUENCE:47354
ORGANIZER:Destitution Records
DTSTART:20130131T220000Z
DTEND:20130201T030000Z
UID:event_47354@rave.ca
SUMMARY:Dj Schhol Montreal 1st Night Out
LOCATION:Piranha Bar
URL:https://www.rave.ca/event/47354/
DESCRIPTION:La première soirée organisé par Destitution Records en collaboration avec Dj School Montréal!!!!\n\nAu menu : 3 des professeurs du Dj School ainsi que 3 étudiants finissant.\n\n::: 3$ AVANT MINUIT ::: \nSeulement 5$ l'entrée!!!! Une bonne partie de ce montant sera distribué aux élèves!!!!\n*l'entré est gratuite pour les étudiants de l'école\n\nDestitution Records in collaboration with Dj School Montreal 1st night!!!\n\nOn the menu : 3 teachers from Dj School with 3 students who completed their classes\n\n::: 3$ BEFORE MIDNIGHT :::\nOnly 5$ and mostly all proceed will go to the students!\n*free for students of the school\n\nDjs : \n\nÉtudiants / Students : \n\nDj Just/On\nDj Nikky Prime\nDj Jerome Peimbert\n\nProfs / Teachers : \n\nÄnimÄ\nLocomote\nHofstadter (aka Sickness)\n\nTIME SLOT :\n\n22:00 à 23:30 : AnimA vs Jerome\n23:30 à 00:00 : Locomote\n00:00 à 01:00 : Nikky Prime\n01:00 à 02:00 : Just/On\n02:00 à 03:00 : Hofstadter (aka Sickness)\n\nAu / At : Piranha Bar 680 Ste-Catherine Ouest métro McGill entre McGill et University.
CLASS:PUBLIC
CATEGORIES:
STATUS:CONFIRMED
PARTSTAT:ACCEPTED
END:VEVENT
END:VCALENDAR
