BEGIN:VCALENDAR
PRODID:RAVE.CA V17.0
X-WR-CALNAME:Pendulum Dj Set
X-ORIGINAL-URL:https://www.rave.ca/event/47307/
VERSION:2.0
CALSCALE:GREGORIAN
METHOD:PUBLISH
BEGIN:VEVENT
DTSTAMP:20121119T215717Z
LAST-MODIFIED:20121119T215717Z
CREATED:20121119T215617Z
SEQUENCE:47307
ORGANIZER:Unknown
DTSTART:20121122T220000Z
DTEND:20121122T220000Z
UID:event_47307@rave.ca
SUMMARY:Pendulum Dj Set
LOCATION:Unknown
URL:https://www.rave.ca/event/47307/
DESCRIPTION:https://www.facebook.com/events/415802261817304/?fref=ts
CLASS:PUBLIC
CATEGORIES:
STATUS:CONFIRMED
PARTSTAT:ACCEPTED
END:VEVENT
END:VCALENDAR
