BEGIN:VCALENDAR
PRODID:RAVE.CA V17.0
X-WR-CALNAME:Atb, Seven Lions, Rudee @ New City Gas | 514-622-7099
X-ORIGINAL-URL:https://www.rave.ca/event/47292/
VERSION:2.0
CALSCALE:GREGORIAN
METHOD:PUBLISH
BEGIN:VEVENT
DTSTAMP:20121108T004250Z
LAST-MODIFIED:20121108T004250Z
CREATED:20121108T004123Z
SEQUENCE:47292
ORGANIZER:Unknown
DTSTART:20121123T220000Z
DTEND:20121124T030000Z
UID:event_47292@rave.ca
SUMMARY:Atb\, Seven Lions\, Rudee @ New City Gas | 514-622-7099
LOCATION:Unknown
URL:https://www.rave.ca/event/47292/
DESCRIPTION:ATB + SEVEN LIONS + RUDEE @ NEW CITY GAS\nSUNSET BEACH DJ SESSION 2\n\nTICKETS/BILLETS\; 514-622-7099\n\n\n18+
CLASS:PUBLIC
CATEGORIES:
STATUS:CONFIRMED
PARTSTAT:ACCEPTED
END:VEVENT
END:VCALENDAR
