BEGIN:VCALENDAR
PRODID:RAVE.CA V17.0
X-WR-CALNAME:Cosmic Gate @ Circus | 514-622-7099
X-ORIGINAL-URL:https://www.rave.ca/event/47291/
VERSION:2.0
CALSCALE:GREGORIAN
METHOD:PUBLISH
BEGIN:VEVENT
DTSTAMP:20121108T003714Z
LAST-MODIFIED:20121108T003714Z
CREATED:20121108T003212Z
SEQUENCE:47291
ORGANIZER:Unknown
DTSTART:20121116T020000Z
DTEND:20121117T100000Z
UID:event_47291@rave.ca
SUMMARY:Cosmic Gate @ Circus | 514-622-7099
LOCATION:Unknown
URL:https://www.rave.ca/event/47291/
DESCRIPTION:COSMIC GATE (DE) + WIZZ & INSOMNIA + PROJECT OFFSET @ CIRCUS\nWAKE YOUR MIND ALBUM TOUR\n\nTICKETS/BILLETS\; 514-622-7099
CLASS:PUBLIC
CATEGORIES:
STATUS:CONFIRMED
PARTSTAT:ACCEPTED
END:VEVENT
END:VCALENDAR
