BEGIN:VCALENDAR
PRODID:RAVE.CA V17.0
X-WR-CALNAME:Holloween And Wonderland
X-ORIGINAL-URL:https://www.rave.ca/event/47277/
VERSION:2.0
CALSCALE:GREGORIAN
METHOD:PUBLISH
BEGIN:VEVENT
DTSTAMP:20121025T112534Z
LAST-MODIFIED:20121025T112534Z
CREATED:20121022T143108Z
SEQUENCE:47277
ORGANIZER:Unknown
DTSTART:20121027T210000Z
DTEND:20121027T040000Z
UID:event_47277@rave.ca
SUMMARY:Holloween And Wonderland
LOCATION:Unknown
URL:https://www.rave.ca/event/47277/
DESCRIPTION:▬▬▬▬▬▬▬▬▬▬▬▬▬▬▬▬▬▬▬▬▬▬▬▬▬▬▬▬▬▬▬▬▬▬▬▬▬▬▬▬\nBOTTLE SERVICE/RESERVATIONS/VIP/GUESTLIST:             514.668.3310       – info@funktasy.com\nPlease mention if you are on Alex\, Johnny\, Brian\, Jed\, Alexis\,Yannick's or anyone else's Guest List.\n▬▬▬▬▬▬▬▬▬▬▬▬▬▬▬▬▬▬▬▬▬▬▬▬▬▬▬▬▬▬▬▬▬▬▬▬▬▬▬▬\n★★★FUNKTASY GRAND SATURDAYS – HALLOWEEN WONDERLAND★★★
CLASS:PUBLIC
CATEGORIES:
STATUS:CONFIRMED
PARTSTAT:ACCEPTED
END:VEVENT
END:VCALENDAR
