BEGIN:VCALENDAR
PRODID:RAVE.CA V17.0
X-WR-CALNAME:☀ Nye 6tem Coalition : Tekno Nouvel An ☀ (Agricoles, Hardtimes, Bassix) ☀
X-ORIGINAL-URL:https://www.rave.ca/event/47271/
VERSION:2.0
CALSCALE:GREGORIAN
METHOD:PUBLISH
BEGIN:VEVENT
DTSTAMP:20130108T190046Z
LAST-MODIFIED:20130108T190046Z
CREATED:20121019T081903Z
SEQUENCE:47271
ORGANIZER:Tekno Agricole Sound6Tem
DTSTART:20121231T220000Z
DTEND:20121231T220000Z
UID:event_47271@rave.ca
SUMMARY:☀ Nye 6tem Coalition : Tekno Nouvel An ☀ (Agricoles\, Hardtimes\, Bassix) ☀
LOCATION:Unknown
URL:https://www.rave.ca/event/47271/
DESCRIPTION:ATTENTION !!! ENTREZ PAR LA PORTE ARRIERE\, ACCESSIBLE PAR LA RUE CHAMBORD !!! (des affiches DETOUR vous guiderons) NE TRAINEZ PAS TROP LONGTEMPS DEHORS SVP!! CA VA PETER! \n\nCOME IN THROUGH BACK DOOR\, YOU CAN GET THERE FROM RUE CHAMBORD\, DO NOT HANG OUT OUTSIDE TOO LONG PLEASE! ALLEEZZZ\nLocation: INCINERATEUR ROSEMONT\n\n1295 Des Carrieres (metro Rosemont)\n---------------------------------------\nLe décompte est commencé\, 2013 est à nos portes !!!\n\nUne nouvelle et superbe année s’apprête à commencer\, \nalors venez célébrer ca avec nous!! On parle ici de 3 Sound \nsystems montréalais unissant leurs forces pour vous offrir un des \nplus gros événement TEKNO à MONTRÉAL.. pour le jour de l'an!! :D\n\nUNE DIVERSITÉ DE STYLE VOUS Y ATTENDRA!\n\nTENEZ VOUS BIEN! \n\nCA VA BARDER!\n\nXD\n\n---------------------------------------------------------------------------------\n\nCover charge : 20$ avant 23h00 et 25$ après! \n\nExtérieur de la ville : 20$ (Laval\, Longeuil\, etc. ne comptent pas :P)\n\naliens provenant de galaxies éloignées : 15$ XD\n\n\nRafraichîssements en vente sur place!\n\n---------------------------------------------------------------------------------\n\nLocation: INCINERATEUR ROSEMONT\n\n1295 Des Carrieres (metro Rosemont)\n\n_______________\nSTAGE HARDTIMES\n\n10-11 Defrag (minimal techno)\n\n11-12 Black Cat (Drum&Bass & Minimal techno)\nhttps://soundcloud.com/black-kat\n\n12-1 Wave Parasites LIVE (TechnoElectro)\nhttps://soundcloud.com/wave-parasites-1\n\n1-2 Erratique (Electro\,Acid)\n\n2-3 Module 8 (Prog)\n\n3-4 Nocide (Special set)\nhttps://soundcloud.com/nocide\n\n4-5 Rodroid vs D.T.O (Powerbeat)\nhttps://soundcloud.com/rodroid\nhttps://soundcloud.com/dans-tes-oreilles\n\n5-6 tristie crispie (live)\n\n6-7 Lectronical (Psytrance)\nhttps://soundcloud.com/lectronical\n\n7-8 Cybertribe (Hardcore)\nhttp://www.soundcloud.com/cybertribe\n\nHardtimes soundsystem D.I.Y\nFREE TECHNO FOR FREE PEOPLE\nStage Hardtimes Avec DECO SPECIAL\n\nSTAY CONNECTED.\n\n____________________\nSTAGE TEKNO AGRICOLE\nHardtek\, Tribe\, Hardfloor\, Breakore\, Drum'n'Bass\n\nArtistes agricoles et invités:\n\n21h ----- G=3.14 - Tekno-Agricole - (Progressive Tekno)\n23h ----- Na - DeadNa - (Hardcore)\n00h ----- ANNEXE7 - Tekno Agricole - (Drum'n'Bass / Tribe)\n01h ----- Bernard Kotik - TeknoAgricole - (Tribe)\n02h ----- Bunnies Lambs - Tekno Agricole - (Tribecore) \n03h ----- Zone-33 - Le Diable au Corps - (Hardtek / Hardfloor) \n05h ----- VDLM LIVE - Victime de la Mode / O.M.F records - (Hardtek / HI-tek)\n06h ----- Laf-O - Tekno Agricole / RancorousRecords.com / Smerk - (Breakcore) \n07h ----- Tiwézo - Tekno Agricole - (Drum'n'Bass)\n08h ----- Folie Furieuse - Abitek- (Drum'n'Bass)\n09h ----- Onelabrat - NDFU - (Tribecore)\n\nTekno Agricole - Cultive ta Musique! \n\n!!!MESSAGE IMPORTANT POUR LES AMIS DE LA BASSE-COUR:\nN'oubliez pas d'apporter une serviette et de mettre votre salopette!!!\n\n_______________\nSTAGE MTL BASSIX\n\nNotre melange habituel de bonne vibes\; deep dubstep\, glitch\, drum'n'bass\, psytrance... \n\nLock0ut \n\nSnowphish\n\nMeta-B\n\nBroken Dreams\n\nPsydruid\n\nhttp://www.mtlbassix.com\n\nhttps://www.facebook.com/mtlbassix\n\nhttps://soundcloud.com/lockout\n\nhttps://soundcloud.com/snowphish\n\nhttp://www.mixcloud.com/snowandy/\n\nhttp://www.mixcloud.com/BrokenDreams/\n\n& + \n\n\nVJS\,: dissonance ~ bubbleheadz \n\n\n\n\nP.S. Habillez-vous chaudement\, car il va faire froid dans la salle.
CLASS:PUBLIC
CATEGORIES:
STATUS:CONFIRMED
PARTSTAT:ACCEPTED
END:VEVENT
END:VCALENDAR
