BEGIN:VCALENDAR
PRODID:RAVE.CA V17.0
X-WR-CALNAME:O C D J
X-ORIGINAL-URL:https://www.rave.ca/event/47264/
VERSION:2.0
CALSCALE:GREGORIAN
METHOD:PUBLISH
BEGIN:VEVENT
DTSTAMP:20121206T174004Z
LAST-MODIFIED:20121206T174004Z
CREATED:20121009T151903Z
SEQUENCE:47264
ORGANIZER:Deadna Productions
DTSTART:20121207T210000Z
DTEND:20121208T030000Z
UID:event_47264@rave.ca
SUMMARY:O C D J
LOCATION:Cafe Chaos
URL:https://www.rave.ca/event/47264/
DESCRIPTION:Alright\, due to popular demand\, OCDj is back so soon!\nOn Friday\, December 7th 2012\, we've got the wickedest of the wicked\, DJs and Live sets\, including the whole HARD music family\, from Hardcore to Gabber\, Breakcore\, Jungle and Tribe! :::\n\n--> MUTANTE (Live! Quebecore\, ISR) [Hardcore]\n--> Fishead [Hardcore Breakcore\, RaggaCore]\n--> Na (Resident / Deadna prod.) [Hardcore\, Gabber\, Jungle]\n--> K.O.Tik (Live! / Tekno Agricole) [Tribe\, TribeCore]\n--> NDFU crew : Industrial Meat\, The Lazy Bastard\, Princest Opiate [Hardcore\, Breakcore]\n\nVJ Diss0nance\n\n7 acts\, 6 hours\, for only 5$! @ Café Chaos\, 2031 St. Denis (Berri-UQAM metro)\n\nIT'S ON!
CLASS:PUBLIC
CATEGORIES:
STATUS:CONFIRMED
PARTSTAT:ACCEPTED
END:VEVENT
END:VCALENDAR
