BEGIN:VCALENDAR
PRODID:RAVE.CA V17.0
X-WR-CALNAME:Tba _ With International Headliner
X-ORIGINAL-URL:https://www.rave.ca/event/47257/
VERSION:2.0
CALSCALE:GREGORIAN
METHOD:PUBLISH
BEGIN:VEVENT
DTSTAMP:20120925T180955Z
LAST-MODIFIED:20120925T180955Z
CREATED:20120925T180851Z
SEQUENCE:47257
ORGANIZER:psy-bucheron prod / lumberjacks records
DTSTART:20121019T210000Z
DTEND:20121019T210000Z
UID:event_47257@rave.ca
SUMMARY:Tba _ With International Headliner
LOCATION:Unknown
URL:https://www.rave.ca/event/47257/
DESCRIPTION:Plus d'info sous peu\n\ninternational guest
CLASS:PUBLIC
CATEGORIES:
STATUS:CONFIRMED
PARTSTAT:ACCEPTED
END:VEVENT
END:VCALENDAR
