BEGIN:VCALENDAR
PRODID:RAVE.CA V17.0
X-WR-CALNAME:Halloween (Freki Oasis Night) Don Barbarino &amp; Vyktor Zaa
X-ORIGINAL-URL:https://www.rave.ca/event/47255/
VERSION:2.0
CALSCALE:GREGORIAN
METHOD:PUBLISH
BEGIN:VEVENT
DTSTAMP:20121026T161550Z
LAST-MODIFIED:20121026T161550Z
CREATED:20120914T151340Z
SEQUENCE:47255
ORGANIZER:Unknown
DTSTART:20121031T210000Z
DTEND:20121101T030000Z
UID:event_47255@rave.ca
SUMMARY:Halloween (Freki Oasis Night) Don Barbarino & Vyktor Zaa
LOCATION:Unknown
URL:https://www.rave.ca/event/47255/
DESCRIPTION:Also the first group of 8...in a Halloween costume  THAT WILL MAKE IT HAPPY THIS NIGHT will be the lucky winners of a bottle of Vodka offered by the OASIS CREW. \nArrive Early!\n\nArrivez déguiser!!! Le premier groupe de 8 déguisés se PUIS QUI VONT METRE DU PICAN A LA SOIREE mériteront une bouteille de Vodka offerte par l'OASIS CREW! Arrivez tôt!!!
CLASS:PUBLIC
CATEGORIES:
STATUS:CONFIRMED
PARTSTAT:ACCEPTED
END:VEVENT
END:VCALENDAR
