BEGIN:VCALENDAR
PRODID:RAVE.CA V17.0
X-WR-CALNAME:Music @ The Gazebo
X-ORIGINAL-URL:https://www.rave.ca/event/47242/
VERSION:2.0
CALSCALE:GREGORIAN
METHOD:PUBLISH
BEGIN:VEVENT
DTSTAMP:20120926T221246Z
LAST-MODIFIED:20120926T221246Z
CREATED:20120908T034205Z
SEQUENCE:47242
ORGANIZER:Renegade Legion
DTSTART:20121007T140000Z
DTEND:20121007T140000Z
UID:event_47242@rave.ca
SUMMARY:Music @ The Gazebo
LOCATION:Unknown
URL:https://www.rave.ca/event/47242/
DESCRIPTION:14hoo-15hoo :: SpoOnani ( Tek prog )\n15hoo-16h00 :: Zentrix ( Tek prog )\n16hoo-17h15 :: Nainita ( Prog )\n17h15-18h30 :: AnimA Vs Ntshanti ( Prog )\n18h30-19h45 :: Aboslute Vs Ygriega ( Prog )\n19h45-21h00 :: Symbolium Vs Akibel ( Psy )
CLASS:PUBLIC
CATEGORIES:
STATUS:CONFIRMED
PARTSTAT:ACCEPTED
END:VEVENT
END:VCALENDAR
