BEGIN:VCALENDAR
PRODID:RAVE.CA V17.0
X-WR-CALNAME:Electronic Brain
X-ORIGINAL-URL:https://www.rave.ca/event/47192/
VERSION:2.0
CALSCALE:GREGORIAN
METHOD:PUBLISH
BEGIN:VEVENT
DTSTAMP:20120725T173702Z
LAST-MODIFIED:20120725T173702Z
CREATED:20120725T163037Z
SEQUENCE:47192
ORGANIZER:Unknown
DTSTART:20130427T220000Z
DTEND:20130428T100000Z
UID:event_47192@rave.ca
SUMMARY:Electronic Brain
LOCATION:Unknown
URL:https://www.rave.ca/event/47192/
DESCRIPTION:tba
CLASS:PUBLIC
CATEGORIES:
STATUS:CONFIRMED
PARTSTAT:ACCEPTED
END:VEVENT
END:VCALENDAR
