BEGIN:VCALENDAR
PRODID:RAVE.CA V17.0
X-WR-CALNAME:Piknic 10 : Dj Kobal (Ca), Ikonica (Gb), Squarepusher (Gb)
X-ORIGINAL-URL:https://www.rave.ca/event/47187/
VERSION:2.0
CALSCALE:GREGORIAN
METHOD:PUBLISH
BEGIN:VEVENT
DTSTAMP:20120717T214548Z
LAST-MODIFIED:20120717T214548Z
CREATED:20120717T214029Z
SEQUENCE:47187
ORGANIZER:Unknown
DTSTART:20120728T180000Z
DTEND:20120728T230000Z
UID:event_47187@rave.ca
SUMMARY:Piknic 10 : Dj Kobal (Ca)\, Ikonica (Gb)\, Squarepusher (Gb)
LOCATION:Parc Jean Drapeau
URL:https://www.rave.ca/event/47187/
DESCRIPTION:*** IMPORTANT *** Les 4 soirées de la série Piknic 10 ne font pas partie de la saison régulière du Piknic Électronik \; LES PASSES DE SAISON DU PIKNIC N'Y DONNENT DONC PAS ACCÈS. Pour y assister\, les gens doivent avoir en main un billet pour l'événement.
CLASS:PUBLIC
CATEGORIES:
STATUS:CONFIRMED
PARTSTAT:ACCEPTED
END:VEVENT
END:VCALENDAR
