BEGIN:VCALENDAR
PRODID:RAVE.CA V17.0
X-WR-CALNAME:The Ritual: Gathering Of The Tribes 2013 : : : Visionnary Art &amp; Dance Festival ☯
X-ORIGINAL-URL:https://www.rave.ca/event/47182/
VERSION:2.0
CALSCALE:GREGORIAN
METHOD:PUBLISH
BEGIN:VEVENT
DTSTAMP:20130410T062122Z
LAST-MODIFIED:20130410T062122Z
CREATED:20120706T155026Z
SEQUENCE:47182
ORGANIZER:Unknown
DTSTART:20130816T180000Z
DTEND:20130819T180000Z
UID:event_47182@rave.ca
SUMMARY:The Ritual: Gathering Of The Tribes 2013 : : : Visionnary Art & Dance Festival ☯
LOCATION:Unknown
URL:https://www.rave.ca/event/47182/
DESCRIPTION:Logic Vision Collective is  proud to present:\n\nTHE RITUAL: Gathering of the Tribes 2013. Where the paths of Mysticism\,  Spirituality & Consciousness meet... Let's Bring Back our Sacred Rituals !\n\n☯☯☯☯☯☯☯☯☯☯☯☯☯☯☯☯☯☯☯☯☯☯☯☯☯☯☯☯☯☯☯☯☯☯☯☯☯☯☯\n\nEvery year\, a number of festivals are celebrated in the world. These festivals are looked forward to\, for many\, with a lot of enthusiasm.\nAlthough these festivals\, different kinds of rituals are performed (with utmost care)\, and provide you mystical experiences.\n\n☯☯☯☯☯☯☯☯☯☯☯☯☯☯☯☯☯☯☯☯☯☯☯☯☯☯☯☯☯☯☯☯☯☯☯☯☯☯☯\n\nPROLOGUE :\n\nFocused around a central element\, throughout the gathering\, there is a sacred container being collectively created and held\, in collaboration with the Native peoples who have honored us with the use of their land.\n\nWe believe in the healing potential of intentional gatherings.\nWe have dedicated our lives for facilitating these opportunities for a collective evolution. \n\nOur mission : to create the perfect transformation into Peace\, Unity and Global Respect...\n\n☯☯☯☯☯☯☯☯☯☯☯☯☯☯☯☯☯☯☯☯☯☯☯☯☯☯☯☯☯☯☯☯☯☯☯☯☯☯☯\n \n4 days Open-Air Festival \nInternational Music acts\nInternational Deco concept\n\nMore info coming soon...\nPono Pono\n\n☯☯☯☯☯☯☯☯☯☯☯☯☯☯☯☯☯☯☯☯☯☯☯☯☯☯☯☯☯☯☯☯☯☯☯☯☯☯☯\n\nLogic Vision Collective  est fier de vous présenter :\n\nLa Réunion des Tribus 2013... Où se rencontrent  les chemins  du Mysticisme & de l'art.\n\n☯☯☯☯☯☯☯☯☯☯☯☯☯☯☯☯☯☯☯☯☯☯☯☯☯☯☯☯☯☯☯☯☯☯☯☯☯☯☯\n\nChaque année\, un certain nombre de festivals est célébré dans le monde. Ces festivals sont organisés avec beaucoup de respect et sont attendus\, pour beaucoup\, avec enthousiasme.\nCes festivals sont exécutés avec un soin extrême pour vous offrir une expérience unique.\n\n☯☯☯☯☯☯☯☯☯☯☯☯☯☯☯☯☯☯☯☯☯☯☯☯☯☯☯☯☯☯☯☯☯☯☯☯☯☯☯\n\nPROLOGUE :\n\nAutour d'un conteneur sacré est centré un élément\, créé et collectivement gardé avec les Peuples autochtones\, nous ayant honorés de l'usage de leur terre. \n\nNous croyons aux guérisons et au potentiel des intentions.\nNous consacrons nos vies à faciliter ces réunions\, pour l'évolution collective.\n\nNotre mission : créer une transformation parfaite dans la Paix\, l'Union et le Respect Global...\n\n☯☯☯☯☯☯☯☯☯☯☯☯☯☯☯☯☯☯☯☯☯☯☯☯☯☯☯☯☯☯☯☯☯☯☯☯☯☯☯\n\n4 Jours de Festival en Plein-Air\nArtistes internationaux\nConcept Déco international\n\nBientôt d'autres  nouvelles...\nPono Pono\n\n☯☯☯☯☯☯☯☯☯☯☯☯☯☯☯☯☯☯☯☯☯☯☯☯☯☯☯☯☯☯☯☯☯☯☯☯☯☯☯\n\nINTERNATIONAL LIVE Acts :\n(More to be Announced)\n\nPSYKOVSKY  (Osom Music - RUSSIA)\n1st Time in CANADA ! \n\nBio :\n\nBegan playing in groups as early as 12 (Tihaya Zastava)\, Vasily Markelov first achieved success as the member of Transdriver. Together\, with Alexey Kovalev\, he gigged a lot around Moscow and Russia during 1995-2000.\nSince 2000\, Vasily works with different solo and collaborative projects\, occasionally performs around the world.\nNow he is acknowledged as one of the most important figures in Russian psytrance. Working together with Lev Greshilov (KinDzaDza) under the name of OSOM\, Vasily has also a resulted experience producing with G-Light\, Fungus Funk\, Matutero\, Neogen and Parasense.\nToday his discography consists of 25 tracks on worldwide labels such as Déjà vu\, Insomnia and more... with 7 of them released under the name of Psykovsky.\nOn Vertigo\, Psykovsky appears for the first time but with a full-length conceptual album which consists of previously unreleased remixes\, solo and collaborative material.\nThe genre of music varies as beats per minute lift up from 145 to 152 (innovative but still traditional).\n\n::::::::::::::::::::::::::::::\n\nKASHYYYK  (Kamino records - MEXICO)\n\nBio :\n\nPablo Valdes is musician since he's 14 years old... always motivated to express his inner thoughts and feelings through the infinite possibilities.\nHis music reflects his passion for anthropological researches and sacred ancient rituals.\nToday\, when most of humanity is living almost as far from natural way\, he offers (as possible) to take a look back and learn from the past\, with his hypnotic sounds work.\nListen and enjoy this true psychedelic trance master.\n\n☯☯☯☯☯☯☯☯☯☯☯☯☯☯☯☯☯☯☯☯☯☯☯☯☯☯☯☯☯☯☯☯☯☯☯☯☯☯☯\n\n\nInternational Artists: more to be announced soon\n\n\nPSYKOVSKY live! (Osom Music - Russia) - Forest Psytrance\n\nKASHYYYK live! (Kamino recs - Mexico) - Hitech Psychedelic Trance\n\nENICHKIN live! (Mind Expension - DARK recs - Russia) - Psychedelic Trance & Psydub\n\nURECKEN   live+Djset! (Dacru rec - Israel) ::: Morning Fullon\n\nRADIOACTIVE CAKE  live! (Glitchy Tonic recs - Germany) ::: Dark Progressive Trance\n\nBLASTED BINDI   Djset! (Kamino rec - Israel) ::: Hitech Psytrance\n\nKABAYUN  Live+djset (Looney Moon recs - USA) ::: Psytrance\n\nPRIMORDIAL OOZE live+djset (Anti-shanti recs - USA) ::: Psytrance\n\nLUNECELL live+djset+Vjset (Occulta recs - USA) ::: Psychedelia\n\nAXIS MUNDI  live! (Touch Samadhi - USA) :::: Psytrance to Hitech\n\nSMOKE SIGN live!+djset (Zenon recs - USA) ::: Progressive \nPsytrance\n\nFRACTAL PHONO djsets (Zenon recs - DMT recs | USA) ::: Zenonesque\, Minimalia\n\nTHE DARK PASSENGER  live!(Glitchy Tonic recs - Germany) ::: Dark Ambient\n\nMUNSTROUS   live! (Glitchy Tonic recs - Germany) ::: Dark Minimalia\n\nMISSKEY    DJSET! (Arkona Creation - United Kingdom) ::: Psygressive\n\nHARDKOR NATE  live+djset ( Spacecamp Psyfari\, Denver USA]  ::: Psychedelic Trance\n\nASCENSION LIVE+DJSET [Chilluminati\, Spacecamp Psyfari\, Denver USA] ::: Psychedelic Trance\n\n:::::::::::::::::::::::\n\nLocal Heros\n\n\nLive-Acts (More to be announced)\n\n1\,618  live! (Montreal) ::: Progressive Psytrance\n\nATHERIA live! (Geomagnetic recs - Toronto) ::: Progressive\n\nAURA live! (Aura Music - Montreal) ::: Psydub \n\nDUGONG live! (*BELLYOFTHEWHALECTRONICA* inc. - Montreal) ::: Tribal Minimalism\n\nDER DENKER live! (Concepto Hypnotico - Montreal)::: Dark Minimal\n\nDr STRANGEFUNK live! (Werk It Music - St Jerome) ::: Zenonesque\n\nFLORIAN MSK live! (Concepto Hypnotico - Montreal) ::: Dark Minimal\n\nKLOUD NIN9 live+djset (Glitchy Tonic - Montreal) ::: ProgDark\n\nOTKUN live + djset (Enigmatik recs - Montreal) ::: Forest Hitech\n\nSOURSWEET live! (Logic Vision recs - Montreal) ::: Psysufi\n\nSPACEY KOALA live! (Logic Vision - Montreal) ::: Psytrance\n\nUBER live! (Indy - Montreal) ::: Progressive\n\nVIRTUAL LIGHT live (Prism Code - Montreal) ::: Psytrance \n\nZENTRIX live! (Digital Mind recs - Montreal) ::: Zenonesque\n\n::::::::::::::::::::::::::::\n\nDJsets  (More to be announced)\n\n\nAFRODITE (Logic Vision - Venezuela) ::: Hitech Psytrance\n\nALIEN RAINFOREST (Ajnavision recs- Ottawa) ::: Psydub\n\nAKSHOBHYA (Logic Vision - Montreal) ::: Psytrance\n\nANIMA (OuI-R1 - Montreal) ::: Psyprog\n\nBANJANKRI (Organic Family - Toronto) ::: Forest Psytrance\n\nCODE-AMA (Logic Vision - Montreal) ::: Dark Grooves\n\nDIRTY HARRY (St Jerome) ::: Zenonesque\n\nELVIRA (Logic Vision - Montreal) ::: Forest Psytrance\n\nG-PI (Techno Agricole - Montreal) ::: Psyprog\n\nJEDARK (D-A-R-K recs - Sherbrook) ::: Darkpsy\n\nJESSEJAMES (DARK recs - Morocco) ::: Troglodythe Psytrance\n\nJOEL MCDUFF (OUIR1 - Montreal) ::: Progressive\n\nKHALIL (Speakeasy - Montreal) ::: Electroswing Balkan\n\nKADMON  (One Love Movement - Toronto) ::: Progressive Dub\n\nKOALUNA (Logic Vision - Montreal) ::: Troglodyte Psytrance\n\nKRIKKITT (Osiris prods - Montreal) ::: Psydub\n\nMACHINELF (Timewave Productions\, Om Reunion Project-Toronto) ::: Progressive Psytrance\n\nMANDELBROT (Zenon recs - Toronto) ::: Zenonesque\n\nMOHINIA (Logic Vision - Montreal) ::: Psytrance\n\nMYTHROPHAN (Toronto) ::: Progressive\n\nNAAZ (D.A.R.K recs - Montreal) ::: Darkpsy\n\nNAINITA (Logic Vision - Quebec) ::: Forest Psytrance\n\nNIKOCH (Montreal) ::: Native Tribal Trance\n\nNISMO (Cyberloft - Montreal) ::: Progressive\n\nOBSIDIAN (Logic Vision - Ottawa) ::: Psydub\n\nOGICHIDA (Organic Family - Toronto) ::: Forest Psytrance\n\nONEIRIC PARTICLES (Sketchy labs - Montreal) ::: Orchestral IDM\n\nPLAN B (Shakti Collective - Toronto) ::: Psytrance\n\nPRANAPAPA (Logic Vision - Quebec) ::: Ethno Trance\n\nPSYDRUID (Logic Vision - Montreal) ::: Forest Psytrance\n\nPSYTONICA (Logic Vision - Toronto) ::: Forest Psytrance\n\nRED ELECTRIC EARTH (Love Project - Montreal) ::: Progressive\n\nRON JON (Logic Vision - Ottawa) ::: Psytrance\n\nSABI NON STOP (Tatanka fest - Montreal) ::: Psydub\n\nSHANGO (Logic Vision - Quebec) ::: Dakrpsy\n\nSPOONANI (Pounjah - Quebec) ::: Drum & Bass\n\nSYNTHETIK (Prism Code - Montreal) ::: Psytrance\n\nTRANSISCO (Om Project - Toronto) ::: Morning Psy\n\nTRANSURFER (Logic Vision - Montreal) ::: Psytrance\n\nWARRIORS (Big Tooth - Montreal) ::: Deep BASS\n\nXONICA (Logic Vision rec - Toronto) ::: Psychedelic Trance\n\nYGRIEGA (Sourcecode | OUI R1 - Montreal) ::: Psyprog\n\nZAGA (Cosmic Juice - Toronto) ::: Progressive\n\n::::::::\n\nDeco Artists:\n\nOMICRO DECORATIONS (SLOVAKIA) ::: Decoration\n\nQUENDI (SLOVAKIA) ::: Visionnary art\n\nCLAUDIA VOILAKETEE (QUEBEC)  ::: Decoration\n\nCESAR AR (COLOMBIA) ::: Visionnary art\n\n:::::::\n\nVjs:\n\nKHALIL (Logic Vision Collective - CAN)\n\nXONICA (Logic Vision Collective - MEX)\n\nOTEKUN ( Logic Vision collective - MOR)\n\n:::::::::::::::::::::::::::::::::::::::::::::::\n\n☯☯☯☯☯☯☯☯☯☯☯☯☯☯☯☯☯☯☯☯☯☯☯☯☯☯☯☯☯☯☯☯☯☯☯☯☯☯☯\n\nSERVICES\n----------------------------------------\n\n- Restaurant végétarien et méditerranéen / Vegetarian and mediterranean restaurant\n- Kiosque de jus frais & Tchai / Fresh juice stand & Tchai\n- Plage et baignade sur le site / Beach and swimming on the site\n- Toilettes / WC\n- Camping gratuit / Free camping\n- Sécurité professionnelle et amicale sur le site / Professionnal and friendly security on the site.\n\n\nREGLEMENT / REGULATION\n---------------------------------------------\n\n- Respectez l’environnement / Respect the environment\n- Aucun objet en verre sur le site / No glass on the site\n- Les feux sont interdits / Fires are forbidden\n- Baignade interdite la nuit / No swimming at night\n- Aucun animal domestique sur le site / Pets are not allowed on the site\n- Aucun système de son indépendant ne sera toléré sur le site / Independant sound systems will be not tolerated on the site.\n\nMERCI DE BIEN VOULOIR RESPECTER CES REGLES ! ...\nTHANK YOU FOR RESPECTING THOSE RULES ! ...\n\n\n\n☯☯☯☯☯☯☯☯☯☯☯☯☯☯☯☯☯☯☯☯☯☯☯☯☯☯☯☯☯☯☯☯☯☯☯☯☯☯☯\n\nTrancefare:  \n\nDec - Jan: 45$ (SOLD OUT)\nFeb - March: 70$\nApril - May : 90$\nJune - July : 110$\nAugust: 120$\nDoor: ???\n\n@ Psychonaut: 154 Prince Arthur E\, Montréal\, QC H2X 1B7\n(514) 844-8998\n\n﻿Online Tickets: \nhttps://psy-market.com/item.php?id_store=347&id_article=885&flag_search=1&sort=most+recent\n\n\nOur Early Bird Tickets will be limited (50 tix) and starts with the presale price of 45$. The presale starts wednesday 12-12-2012 @ Psychonaut\, 154 Prince Arthur E Montreal\, QC H2X 1B7\, Canada (514) 844-8998. Get your ticket fast before the price goes up (65$) :)\n\nFor people outside Montreal\, Quebec\, you can purchase your ticket online with Paypal: \nhttps://psy-market.com/item.php?id_store=347&id_article=885&flag_search=1&sort=most+recent\n\n☯☯☯☯☯☯☯☯☯☯☯☯☯☯☯☯☯☯☯☯☯☯☯☯☯☯☯☯☯☯☯☯☯☯☯☯☯☯☯\n\nBUS Shuttles :\n\nWe gonna offer  multiple bus shuttles departing from :\n\nMontreal (Quebec)\nToronto (Ontario)\nNew York City (NY)\nOttawa (Quebec)\n\nMore infos soon ...\n\n☯☯☯☯☯☯☯☯☯☯☯☯☯☯☯☯☯☯☯☯☯☯☯☯☯☯☯☯☯☯☯☯☯☯☯☯☯☯☯\n\nThe INDIAN MARKET !\n\nFor all vending inquries | Kiosques\n\nThe Ritual Festival will offer a wide assortment of food/drink\, crafts\, and other vendors throughout the Festival site.\n\nLe RItuel Festival vous offrira un assortiment très large de restaurants ainsi qu'une variété de kiosques nous proposants des produits d'ici et d'ailleurs\n\nplease email us at: theritual.festival@gmail.com\n\nPS: Kiosks need to be reserved maximum before: May 1st\, 2013 !\n\n☯☯☯☯☯☯☯☯☯☯☯☯☯☯☯☯☯☯☯☯☯☯☯☯☯☯☯☯☯☯☯☯☯☯☯☯☯☯☯\n\nPARTNERS :\n\nCyberloft (Canada)\nKamino records (Mexico)\nLiving Our Visionary Experience (Canada - UK)\nOmicron Deco (Slovakia)\nOrganic Family (Toronto)\nOSOM (Russia)\n\n\n。ॐ。*。ॐ。\nॐ。＼｜／。ॐ\n--- PEACE ---\nॐ。／｜＼。ॐ\n。ॐ。*。ॐ\n\n\n\nhttp://logicvisionprods.wix.com/ritual-festival2013\n\nWith open minds and adventurous souls\, there will always be sounds to move to and beats to feel.\nWe hope you are as excited as we are !\n\nAvec l'esprit ouvert et aventureux\, il y aura toujours des rythmes pour vous faire bouger et des musiques à ressentir.\nNous espérons que vous êtes aussi enthousiasmés que nous le sommes !\n\nInfo Contact : theritual.festival@gmail.com\n\n\nCOLLABORATORS & SPONSORS\n\nDigital Audio Rec Kompany \nMAIA Brazil records\nOsom records\nKamino records\nGlitchy Tonic records\nOrganic Family\n\nWe suggest you finish your journey at Genesis festival (New York)\n\nhttps://www.facebook.com/events/431476333570283/
CLASS:PUBLIC
CATEGORIES:
STATUS:CONFIRMED
PARTSTAT:ACCEPTED
END:VEVENT
END:VCALENDAR
