BEGIN:VCALENDAR
PRODID:RAVE.CA V17.0
X-WR-CALNAME:Piknic Électronik Gatineau
X-ORIGINAL-URL:https://www.rave.ca/event/47171/
VERSION:2.0
CALSCALE:GREGORIAN
METHOD:PUBLISH
BEGIN:VEVENT
DTSTAMP:20120621T221251Z
LAST-MODIFIED:20120621T221251Z
CREATED:20120621T220715Z
SEQUENCE:47171
ORGANIZER:Unknown
DTSTART:20120701T140000Z
DTEND:20120701T210000Z
UID:event_47171@rave.ca
SUMMARY:Piknic Électronik Gatineau
LOCATION:Unknown
URL:https://www.rave.ca/event/47171/
DESCRIPTION:2 PM  Manalogue\n\n3:30  The Gulf Stream\n\n5:30  Math Rosen\n\n7PM   A Tribe Called Red\n\n8PM   Lakes District
CLASS:PUBLIC
CATEGORIES:
STATUS:CONFIRMED
PARTSTAT:ACCEPTED
END:VEVENT
END:VCALENDAR
