BEGIN:VCALENDAR
PRODID:RAVE.CA V17.0
X-WR-CALNAME:Picnik Électronik : Jacques Greene (Ca), MacHinedrum (Us), Lunice (Ca), Son Raw
X-ORIGINAL-URL:https://www.rave.ca/event/47160/
VERSION:2.0
CALSCALE:GREGORIAN
METHOD:PUBLISH
BEGIN:VEVENT
DTSTAMP:20120613T224548Z
LAST-MODIFIED:20120613T224548Z
CREATED:20120613T224350Z
SEQUENCE:47160
ORGANIZER:Unknown
DTSTART:20120729T140000Z
DTEND:20120729T210000Z
UID:event_47160@rave.ca
SUMMARY:Picnik Électronik : Jacques Greene (Ca)\, MacHinedrum (Us)\, Lunice (Ca)\, Son Raw
LOCATION:Parc Jean Drapeau
URL:https://www.rave.ca/event/47160/
DESCRIPTION:Place de l'homme - Parc Jean-Drapeau\n\nScène MOOG\n\nJacques Greene (CA)\nMachinedrum (US)\nLunice (CA)\nSon Raw (CA)
CLASS:PUBLIC
CATEGORIES:
STATUS:CONFIRMED
PARTSTAT:ACCEPTED
END:VEVENT
END:VCALENDAR
