BEGIN:VCALENDAR
PRODID:RAVE.CA V17.0
X-WR-CALNAME:Music @ The Gazebo
X-ORIGINAL-URL:https://www.rave.ca/event/47127/
VERSION:2.0
CALSCALE:GREGORIAN
METHOD:PUBLISH
BEGIN:VEVENT
DTSTAMP:20120731T233125Z
LAST-MODIFIED:20120731T233125Z
CREATED:20120604T001451Z
SEQUENCE:47127
ORGANIZER:Renegade Legion
DTSTART:20120610T140000Z
DTEND:20120610T140000Z
UID:event_47127@rave.ca
SUMMARY:Music @ The Gazebo
LOCATION:Unknown
URL:https://www.rave.ca/event/47127/
DESCRIPTION:2:00 Sabi Non-Stop\n3:00 Shane Hunt\n4:00 Horizon\n5:15 Rikam\n6:30 Seb\n7:45 Hexa-5
CLASS:PUBLIC
CATEGORIES:
STATUS:CONFIRMED
PARTSTAT:ACCEPTED
END:VEVENT
END:VCALENDAR
