BEGIN:VCALENDAR
PRODID:RAVE.CA V17.0
X-WR-CALNAME:Amazone 2012 -Behind The Mask
X-ORIGINAL-URL:https://www.rave.ca/event/47108/
VERSION:2.0
CALSCALE:GREGORIAN
METHOD:PUBLISH
BEGIN:VEVENT
DTSTAMP:20120928T214151Z
LAST-MODIFIED:20120928T214151Z
CREATED:20120526T010215Z
SEQUENCE:47108
ORGANIZER:Unknown
DTSTART:20121027T210000Z
DTEND:20121028T030000Z
UID:event_47108@rave.ca
SUMMARY:Amazone 2012 -Behind The Mask
LOCATION:Unknown
URL:https://www.rave.ca/event/47108/
DESCRIPTION:Confirmé !\n\n☆☆☆☆☆☆☆☆☆☆☆☆\n\nARTISTES INVITÉS:\n\nZEN MECHANICS LIVE !\nNeurobiotic Records-SourceCode rds - Holland\n\nPERFECT STRANGER LIVE !\nIboga Rds - Digital Structures - Israel\n\n\nG'OBRIEN DJ SET\nGhothitout - Montreal\n\nYANN DJ SET\nTechSafari Records - Eclipse festival -Mtl\n\nRIKAM DJ SET\nTechSafari Records -Neurobiotic Records - Eclipse Festival\n\n\nLOCATION : Bain Mathieu (SPAG)  ONLY 500 TICKETS AVAILABLE !\n\n\n☆☆☆☆ english version will follow\n\nAttention ! Ce message est très important. Il s’adresse à toutes les personnes qui aimeraient participer à la soirée Amazone le samedi 27 octobre prochain. Nous le rappelons: il y a seulement 500 billets disponibles en prévente pour cette soirée d’Halloween. C’est une question de respect de la capacité de la salle du Bain Mathieu (SPAG) et de respect de notre public. Aucune « liste d’invités » n’est possible pour cet événement. Il n’y aucun point de vente à l’extérieur de Montréal et de Saint-Jérôme. Et aucun billet n’est offert sur notre site web. Vous devez vous procurer vos billets en personne au coût de 35 $ chez Psychonaut à Montréal ou chez Chanvre du Nord à Saint-Jérôme. Donc\, n’attendez pas et procurez-vous vos billets le plus tôt possible. Ils sont maintenant disponibles en magasin. Les portes ouvriront à 21 h ! Nous sommes désolés des inconvénients causés par cette limite de vente de billets. Nous tenterons de trouver une plus grande salle en 2013. Merci de votre support et de votre compréhension.\n\nAttention! This is an important message for all who would like to take part in the Amazone evening on Saturday October 27. We remind you that only 500 tickets are on sale for the Halloween event. This is a matter of respecting our public and abiding by Bain Mathieu (SPAG)’s capacity. No guest lis twill be drawn up for this event. There is no point of sale outside Montreal and Saint-Jerome and no ticket on sale on our website. So hurry and buy your tickets as soon as possible. They are now for sale in stores. Doors will open at 9 p.m. We apologize for any inconvenience due to this ticket-sale limit. We’ll try to find a larger venue in 2013. Thanks for your support and understanding.\n\n\nCONCEPT DE LA SOIRÉE --  BEHIND THE MASK --- \n\nVOUS SAUREZ NE PAS VOUS FAIRE RECONNAITRE ???\n\n\nINFO FACEBOOK------\nhttps://www.facebook.com/events/369388909798446/?ref=ts
CLASS:PUBLIC
CATEGORIES:
STATUS:CONFIRMED
PARTSTAT:ACCEPTED
END:VEVENT
END:VCALENDAR
