BEGIN:VCALENDAR
PRODID:RAVE.CA V17.0
X-WR-CALNAME:March Bass Madness 3: Vaski [Us] Smash Gordon [Us] Vilify, More
X-ORIGINAL-URL:https://www.rave.ca/event/47026/
VERSION:2.0
CALSCALE:GREGORIAN
METHOD:PUBLISH
BEGIN:VEVENT
DTSTAMP:20120322T163639Z
LAST-MODIFIED:20120322T163639Z
CREATED:20120322T163609Z
SEQUENCE:47026
ORGANIZER:Unknown
DTSTART:20120331T220700Z
DTEND:20120331T220700Z
UID:event_47026@rave.ca
SUMMARY:March Bass Madness 3: Vaski [Us] Smash Gordon [Us] Vilify\, More
LOCATION:Unknown
URL:https://www.rave.ca/event/47026/
DESCRIPTION:BIG TOOTH in association with PMI \, DRASTIC INDUSTRIES and in collaboration with MESS WITH THE BEST \n\n\nhttps://www.facebook.com/BigToothMtl\n+\nhttps://www.facebook.com/PMIdub\n&\nhttps://www.facebook.com/DrasticIndustries\n&\nhttps://www.facebook.com/messwiththebest.ca\n\n\n\nONLINE TICKETS --> http://www.wantickets.com/mbm3\n\n\n\n★★★★★★ PRESENT ★★★★★★\n\n▄▄▄▄▄▄▄▄▄▄▄▄▄▄▄▄▄▄▄▄▄▄▄▄▄▄▄▄\n\nMARCH BASS MADNESS\nBLOWOUT CLOSER !!\nNIGHT # 3\n▄▄▄▄▄▄▄▄▄▄▄▄▄▄▄▄▄▄▄▄▄▄▄▄▄▄▄▄\n\nOK kids\, here we go!!\n\nWe think we've teased you all long enough with the TOP SECRET MADNESS TBA\, what do yous think?? Are you sure you haven't had enough yet?? Are you really sure we should go trough with one last KILLER night of MBM?!...\n\nOk\, ok\, fuck it! This shit goes down like this!! \n\n▄▄▄▄▄▄▄▄▄▄▄▄▄▄▄▄▄▄▄▄▄▄▄▄▄▄▄▄\n\n\n★★★★ VASKI ★★★★\nMinneapolis\, US\nRottun Records | Play Me Too\n\nAmerican sensation Vaski has spent the better part of two years touring\, shaking the globe with his electro-derived dubstep. With releases from the prestigious Rottun Recordings and Play Me Records\, Vaski is no stranger to the top of the dubstep kingdom. Starting with his first release\, Resonate EP\, each of Vaski's successive releases have enjoyed top-ten status.\nWhen asked about his breakout success\, Vaski said\, "It isn't anything I feel directly responsible for. I make music and people like it. I work hard to try to meet expectations of my fans\, that's all I can do." The last few months have seen Vaski plant his music live across three continents and nearly a dozen countries. Known for his theatrical stage presence and entertaining antics\, seeing Vaski live is more than just a show\, it's an experience.\n2012 will be an iconic one for the young producer/performer. With a number of releases hitting the beatport charts soon\, the sky's the limit for the mid-western sensation. With his sights set on continued touring through North America\, keep an eye on his website\, www.vaskimusic.com\, for tour dates and other news from the evolving world of Vaski.\n\n\nSONGS\n\nCLIMAX REMIX - http://www.youtube.com/watch?v=f5_qw9_F-qg\nLOST MY MIND - http://www.youtube.com/watch?v=r8un3lZAsLg\nGET DOWN - http://www.youtube.com/watch?v=B481pH8m5Ac\nMIGHT LIKE YOU BETTER REMIX - http://www.youtube.com/watch?v=FgHSgrw1ImY\n\nhttp://www.vaskimusic.com/\nhttps://www.facebook.com/vaskimusic/\nhttp://soundcloud.com/vaski/\n\n+\n\n\n★★★★ SMASH GORDON ★★★★\nBaltimore\, US\nSubHuman | Planet Human\n\nSmash Gordon certainly lives up to his name. After a freak accident where a large tank of dangerous\, destructive chemicals accidentally spilled on his head\, Smash was born into a world of violence\, anger\, and fury. Smash Gordon is known for his inability to sleep\, his infinite passion for throwing large objects\, inhaling small children\, and smashing every single aspect of his life into small piece...s. Because of this Smash Gordon is a danger to himself and everyone around him.\n\nSmash is kept in high security behind 7 inch thick titanium bars when not performing. Even the simple presence of a hater will send him into a furious rage\, causing club banger after club banger to rain endlessly upon a concertgoers gentle face. Smash has performed on stage with the likes of POTD\, Deadmau5\, Kill the Noise\, AC Slater\, Rusko\, Dieselboy\, Bare\, and countless\, countless other names. You enjoy dancing\, he enjoys blowing things to pieces\, and leaving nothing but rubble. \n\n\nSONGS\n\nTEAR THE CLUB UP 2099 - http://www.youtube.com/watch?v=7ocgokWYaHs\nCLOUD LOW MASHUP - http://www.youtube.com/watch?v=1o-Kvvpbg-A\n\nhttp://www.getyoursmashon.com/\nhttps://www.facebook.com/SmashGordonDestroy\nhttp://soundcloud.com/smashgordondestroy\n\n\n▄▄▄▄▄▄▄▄▄▄▄▄▄▄▄▄▄▄▄▄▄▄▄▄▄▄▄▄\n\n\nWITH LOCAL SUPPORT FROM\n\n\n♫ VILIFY\n- BASS DRIVE -\n\n♥♥♥\n\nhttp://www.wickedbad.net/vilify/\nhttps://www.facebook.com/pages/VILIFY/79966592973\n\n\n♫ W4RRIORS\n- BIG TOOTH -\n\nhttps://www.facebook.com/theW4RRIORS\nhttp://soundcloud.com/w4rriors\n\n\n♫ ROUGH DRAFT B2B GNAVE\n- BIG TOOTH | PMI -\n\nhttps://www.facebook.com/roughdraftbass\nhttp://soundcloud.com/roughdraft\nB2B\nhttps://www.facebook.com/GNAVEmtl\nhttp://soundcloud.com/egoodman0\n\n\n♫ CFE & RESIZE\n- PMI -\n\nhttps://www.facebook.com/CFEdubstep\n&\nhttps://www.facebook.com/resize.dubstep\nhttp://soundcloud.com/resize-dubstep\n\n\n♫ KOZY\n- DRASTIC INDUSTRIES -\n\nhttp://soundcloud.com/kozydubz\nhttps://www.facebook.com/KozyDnB\n\n\n♫ MR NOKTURN\n- BASS WAVE - \n\nhttp://www.mrnokturn.com/\nhttps://www.facebook.com/MonsieurNokturn\n\n\n▄▄▄▄▄▄▄▄▄▄▄▄▄▄▄▄\n\nVENUE TBA 24HRS IN ADVANCE\n\n▄▄▄▄▄▄▄▄▄▄▄▄▄▄▄▄▄\n\n\nTICKETS\n\n20$ - EARLY BIRDS\n25$ - REGULAR BIRDS\n30$ - DOOR\n\nWITH PROMOTERS \n\nLizzy Luv [Inbox/Txt] -----------------> 514.991.1092\n[Rive Sud/West Island/Downtown/Plateau]\nhttps://www.facebook.com/profile.php?id=1324488684\n\nLxy B [Inbox/Txt] --------------------> 438.884.7239\n[Outremont/Mile End/Downtown/Plateau]\nhttps://www.facebook.com/alexeborel\n\nValé DH [Inbox]\n[Rive Sud/Downtown/Plateau]\nhttps://www.facebook.com/valerie.desautels\n\nMr. Wall [Inbox]\n[Montreal/Plateau/Downtown]\nhttps://www.facebook.com/profile.php?id=500980356\n\nMelo [Inbox/Txt] --------------------->438.884.7799\n[Laval/East End/Downtown]\nhttp://www.facebook.com/melodie.laeticia.clerouin\n\nJF Moss Baws [Inbox/Txt] -------------->514.867.5386\n[Rive Sud/Downtown/Plateau/Mile End]\nhttps://www.facebook.com/profile.php?id=657105445\n\nStéphanie Prévost [Inbox/Txt] ---------->514.707.0005\n[Honoré/Radisson/Pointe-Aux-Tremble/Anjou/RDP]\nhttps://www.facebook.com/profile.php?id=731796671\n\nDA Bomb [Inbox/Txt] ----------------->514.377.4975\n[Montreal/Downtown/East End]\nhttps://www.facebook.com/profile.php?id=725746801\n\nDanielle S [Txt] ----------------------> 514.476.6812\n[West-Island]\n\nJessica Peace [Txt} -------------------> 514.377.5377\n[Downtown]\n\nMORE TO COME\n\n\nONLINE NOW \n\nhttp://www.wantickets.com/mbm3\n\n\n\nIN STORES \n\nAtom Heart :\n364 Boul. Sherbrooke E\n(514) 843-8484\n\nOff The Hook:\n1021a Sainte‐Catherine O\n(514) 499-1021\n\nMoog Audio (LAVAL):\n1785 Saint-Martin \, Laval\n(450) 681-3303\n\nAtelier The Spot (WEST ISLAND) :\n269 Boul. St Jean\, suite 245 k \, Pointe-Claire\n(514) 505-1882\n\n▄▄▄▄▄▄▄▄▄▄▄▄▄▄▄▄▄\n\nMORE INFO TO COME VERY SOON!!!!\n▄▄▄▄▄▄▄▄▄▄▄▄▄▄▄▄▄\n\nSHOW SOME LUV….\nLIKE THESE PAGES\n\nBASE CONCEPT\nhttp://www.baseconcept.com/en\n\nMARCH BASS MADNESS\nhttps://www.facebook.com/MARCHBASSMADNESS\n\nBIG TOOTH\nhttps://www.facebook.com/BigToothMtl\n\nDRASTIC INDUSTRIES\nhttps://www.facebook.com/DrasticIndustries\n\nPURGATORY MUSIC INDUSTRIES\nhttp://www.facebook.com/PMIdub\n\nMESS WITH THE BEST\nhttps://www.facebook.com/messwiththebest.ca\n\nIMPULSIVELY BRAINDEAD\nhttps://www.facebook.com/DirtyUnderground
CLASS:PUBLIC
CATEGORIES:
STATUS:CONFIRMED
PARTSTAT:ACCEPTED
END:VEVENT
END:VCALENDAR
