BEGIN:VCALENDAR
PRODID:RAVE.CA V17.0
X-WR-CALNAME:Hit The Beat
X-ORIGINAL-URL:https://www.rave.ca/event/47020/
VERSION:2.0
CALSCALE:GREGORIAN
METHOD:PUBLISH
BEGIN:VEVENT
DTSTAMP:20120317T070655Z
LAST-MODIFIED:20120317T070655Z
CREATED:20120317T065637Z
SEQUENCE:47020
ORGANIZER:Unknown
DTSTART:20120407T220000Z
DTEND:20120408T060000Z
UID:event_47020@rave.ca
SUMMARY:Hit The Beat
LOCATION:Unknown
URL:https://www.rave.ca/event/47020/
DESCRIPTION:For the first time Fernando Villa a.k.a V.C.O & Charlie Groove (from Bistro Ballers) present: Audio Soul Productions\, which is a concept of parties that blends different arts like\, music – photography – video and deco.\n In this way Audio Soul Productions pretend to create a special ambient in which every person will enjoy a different and beautiful night.\n \nAnd now we are glad introduce you our first party production… HIT THE BEAT that will be featuring djs & artist as:\n \nNOWAY. The founder of the dj quartet Bistro Ballers (A.K.A. Balance\, Chuck Fever\, Charlie Groove & Noway) will share with us his peculiar housy & soul style.\n \nBALANCE will be the author of the hypno-trippy beats founded inside of the progressive minimal rhythms.\n \nCHUCK FEVER is going to be the responsible of bring the deep disco jacking vibes.\n CHARLIE GROOVE will be the guy in charge to throw the sexy tracks with a lot of tech- housy dose.\n \nV.C.O. Is presenting us his techno passions.\n \nBeside the musical environment Vj Isara is going to be controlling the visuals sequences and Gabriel lussier will be the official photographer of HIT THE BEAT.\n \nYou can feel free to bring your own alcohol \n\nand don’t worry about the juices\, cokes\, glass and ice. We have a bar that will provide all of it and more.\n \ncooperation $ 15\n\nADDRESS WILL BE POSTED 1 DAY BEFORE
CLASS:PUBLIC
CATEGORIES:
STATUS:CONFIRMED
PARTSTAT:ACCEPTED
END:VEVENT
END:VCALENDAR
