BEGIN:VCALENDAR
PRODID:RAVE.CA V17.0
X-WR-CALNAME:Pre5ent M1nded (Opening Night) *overtone*
X-ORIGINAL-URL:https://www.rave.ca/event/47010/
VERSION:2.0
CALSCALE:GREGORIAN
METHOD:PUBLISH
BEGIN:VEVENT
DTSTAMP:20120328T164213Z
LAST-MODIFIED:20120328T164213Z
CREATED:20120310T170819Z
SEQUENCE:47010
ORGANIZER:Unknown
DTSTART:20120420T220000Z
DTEND:20120421T030000Z
UID:event_47010@rave.ca
SUMMARY:Pre5ent M1nded (Opening Night) *overtone*
LOCATION:Unknown
URL:https://www.rave.ca/event/47010/
DESCRIPTION:Pre5enT/-*ॐ*-\\M1ndeD\n\n\nPresents... OVERTONE (Opening Night AFTER PARTY < 4:20 >) \n\n\nFor this Grand Opening\, Pre5enT M1ndeD shall welcome you to the Next DIMENSION. / Pour cette soirée d'ouverture\, Pre5enT M1ndeD vous offre la chance d'accéder à la prochaine DIMENSION.. Venez faire un tour pour voir!! :P À Bientôt!! \;) \n\n--------------------------------------------------------------------------------------------------------------ॐ\n\n\nVoilà une explication plutôt briève entourant le concept des Overtones\, \nplus communément appelé des PARTIELS.\n\n\nDe façon générale\, il est préférable de réserver le terme « harmonique » \naux sons musicaux strictement périodiques et infinis\, dont les composantes spectrales sont des multiples entiers de la fréquence fondamentale. Dans tous les autres cas\, où les « fréquences harmoniques » du son ne sont plus des multiples entiers de la fréquence la plus basse\, il serait illogique d'appeler ces fréquences supérieures « harmoniques inharmoniques » \; c'est pourquoi on parle alors uniquement de partiels. le son\, synthétisé à partir de la superposition des harmoniques calculés\, possède un timbre qui donne toute l'aspect\, ou plutot\, la couleur ainsi que la saveur\, si je peux me permettre :P au son\, dont il est question.\n\n\n--------------------------------------------------------------------------------------------------------------ॐ \n\n\nHere's a brief explanation of the concept surrounding OVERTONES. \n\n\nAn overtone is any frequency higher than the fundamental frequency of a sound. The fundamental and the overtones together are called partials. Harmonics are partials whose frequencies are whole number multiples of the fundamental. These overlapping terms are variously used when discussing the acoustic behavior of musical instruments. In simple cases\, such as for most musical instruments\, the frequencies of these tones are the same as\, or close to\, the harmonics. So when a note is played\, this gives the sensation of hearing other frequencies (overtones) above the lowest frequency (the fundamental). That is to say\, the relative volumes of these overtones to each other determines \nthe specific "FLAVOR" or "COLOR" of sound. \n\nThe intensity of each of overtones is rarely constant for the duration of a note. Over time\, different overtones may decay at different rates\, causing the relative intensity of each overtone to rise or fall independent of the overall volume of the sound. A carefully trained ear can hear these changes even in a single note. This is why the timbre of a note may be perceived differently when played staccato or legato. \n\n\nAfter 4:20 at the Mountain.. Check it OuT!!\n\n\n--------------------------------------------------------------------------------------------------------------ॐ \n\n\n> LINE UP <\n\n\n9H - 10H : Ot Kun ........................................... (Dub / Chillout)\n\n\n10H - 11H : Wave Parazites ............................... (Prog)\n\n\n11H - 12H : Sun Hunter .................................... (Prog / Psytrance) \n\n\n12H - 1H30 : Horizon Vs Akibel ............................ (Psytrance)\n\n\n1H30 - 3H : Alien-A Vs PsydrauliX Vs D.BraiN ............ (Psytrance / Twilight)\n\n\n++++++++++++++++++++++++++++++++++++++++++++++++++\n\n\nAnd NOW\, here are the EXTRAS for the Night...\n\nEt Voici MAINTENANT les EXTRAS en ce qui concerne cette PREMIÈRE!! \n\n\n\n+ LIGHT EFFECTS\n\n+ Stretch FABRIC DOME \n\n+ Talented LOCAL LINE UP \n\n+ About 20 000 Watts of SOUND \n\n+ HYPERDIMENSIONAL VIZUALS (Presented by ANARKID)\n\n\n\nPRICE / PRIX : 10$ at the DOOR / 10$ à la PORTE <------> (CAPACITÉ de 300 PERSONNES)\n\nFacebook Link: http://www.facebook.com/events/263941290353871/
CLASS:PUBLIC
CATEGORIES:
STATUS:CONFIRMED
PARTSTAT:ACCEPTED
END:VEVENT
END:VCALENDAR
