BEGIN:VCALENDAR
PRODID:RAVE.CA V17.0
X-WR-CALNAME:Session Syndromatique 029
X-ORIGINAL-URL:https://www.rave.ca/event/46968/
VERSION:2.0
CALSCALE:GREGORIAN
METHOD:PUBLISH
BEGIN:VEVENT
DTSTAMP:20120209T022025Z
LAST-MODIFIED:20120209T022025Z
CREATED:20120209T021312Z
SEQUENCE:46968
ORGANIZER:Syndroma Collective
DTSTART:20120211T223000Z
DTEND:20120212T030000Z
UID:event_46968@rave.ca
SUMMARY:Session Syndromatique 029
LOCATION:L'Inspecteur Épingle
URL:https://www.rave.ca/event/46968/
DESCRIPTION:after a month of rest\, syndroma is back with ... two guests! a line-up composed of artists from the 2011 piknic electronik edition\, you can expect something of quality. we certainly hope to see you there!\n\n* g.o'brien (ghotiitout)\n\n}}} electronica/techno/minimal {{{\n\nhttp://soundcloud.com/dj-g-obrien\n\n* hissy fit (swing & skip/phuturelabs/car crash set)\n\n}}} bass music/techno {{{\n\nhttp://matthewhiscock.com/\nhttp://soundcloud.com/matthewhiscock/\nhttp://www.facebook.com/pages/Hissy-Fit/143344095685535\n\n* axel helios (shabu recordings/knopjemusik/origami sound) & \n&\n* sipherdee (syndroma/64hz)\n\n}}} techno/electronica {{{\n\nhttp://soundcloud.com/a-x-cell\nhttp://soundcloud.com/shabu-recordings\n\nhttp://soundcloud.com/sipherdee\nhttp://itwm-records.com/
CLASS:PUBLIC
CATEGORIES:
STATUS:CONFIRMED
PARTSTAT:ACCEPTED
END:VEVENT
END:VCALENDAR
