BEGIN:VCALENDAR
PRODID:RAVE.CA V17.0
X-WR-CALNAME:Festin Funky 4: Aki Bergen (Italy) @ Cafe Del Monko | 514-622-7099
X-ORIGINAL-URL:https://www.rave.ca/event/46958/
VERSION:2.0
CALSCALE:GREGORIAN
METHOD:PUBLISH
BEGIN:VEVENT
DTSTAMP:20120207T024227Z
LAST-MODIFIED:20120207T024227Z
CREATED:20120207T024011Z
SEQUENCE:46958
ORGANIZER:Unknown
DTSTART:20120225T190000Z
DTEND:20120225T190000Z
UID:event_46958@rave.ca
SUMMARY:Festin Funky 4: Aki Bergen (Italy) @ Cafe Del Monko | 514-622-7099
LOCATION:Unknown
URL:https://www.rave.ca/event/46958/
DESCRIPTION:FESTIN FUNKY 4 (7PM-3AM)\n\n\nDINING & DRINKS | COCKTAIL DÎNATOIRE\nINTIMATE LOFT PARTY | PARTY STYLE LOFT INTIME\nELECTRONIC MUSIC ALL NIGHT | MUSIQUE ÉLECTRONIQUE TOUTE LA NUIT\n\n\nDJS\;\n\n° AKI BERGEN (Italy)\n° DJ LE MONK\n° PIERRE BABIN\n° MR. POPO\n\n------------------------------------\n\n° TICKETS / BILLETS: 20$\n° REDUCED LIST / LISTE RÉDUITE: 25$\n° DOOR / PORTE: 30$\n\n\n╚► 514-622-7099\n\n------------------------------------\n\nTICKET INCLUDE / BILLET INCLUS\;\n\n° FOOD | BOUFFE\n° PARTY ENTRANCE | ENTRÉE À L'EVENEMENT \n° FREE PARKING | STATIONNEMENT GRATUIT\n\n\n* 130 TICKETS ONLY / 130 BILLETS SEULEMENT \n\n\n------------------------------------\n\nCAFÉ DEL MONKO\n4710 ST-AMBROISE\, MONTREAL
CLASS:PUBLIC
CATEGORIES:
STATUS:CONFIRMED
PARTSTAT:ACCEPTED
END:VEVENT
END:VCALENDAR
