BEGIN:VCALENDAR
PRODID:RAVE.CA V17.0
X-WR-CALNAME:Biotropix
X-ORIGINAL-URL:https://www.rave.ca/event/46948/
VERSION:2.0
CALSCALE:GREGORIAN
METHOD:PUBLISH
BEGIN:VEVENT
DTSTAMP:20120630T162154Z
LAST-MODIFIED:20120630T162154Z
CREATED:20120203T202437Z
SEQUENCE:46948
ORGANIZER:Space Kat Productions
DTSTART:20120630T220000Z
DTEND:20120701T070000Z
UID:event_46948@rave.ca
SUMMARY:Biotropix
LOCATION:990 Rue Saint Antoine Ouest\, Montréal
URL:https://www.rave.ca/event/46948/
DESCRIPTION:TWISTED TWINS & SPACE KAT Productions are proudly presenting: BIOTROPIX! \n\nSaturday June\, 30th 2012\n\n\nFeaturing Sounds of:\n\n\nBIOKINETIX (live) - FULL NIGHT PSYTRANCE - Paris\, France\n[PROFOUND RECORDS | GEOMAGNETIC RECORDS]\n\nBiokinetix\, the premier trance producer from France\, has recently released his 4th Album (ROCK THE WORLD) on Geomagnetic.records\, and join the popular team of Profound Records for a new EP\, of amazing and floor storming high energy\, hi-tech psychedelic trance!\n\nBiokinetix has been gaining huge popularity and renown around Europe and the world through the 5 years he has confirming his name as a reference for crazy dancing nights and you will not stop the ear about this name. Keep an ear out for worldwide live performances and much more sounds from Biokinetix studio in the near future.\n\n-Biokinetix is the hottest new presence from the French trance producer.\n-Fabry was born in France in 1977 and was rocked in a varied musical world from an early age (Rock / Soul / Rnb / Electro / Trance / Reggae ...) -His first experience was in 1998 on vinyl in London\, mixing NuNRG and Hard-trance. After 4 years of partying with the Brits\, he decided to come back to France and started DJing on the French stage.\n-2008 he felt inspired to create his own tracks under the project name “Biokinetix” less then 1 year later he finally presents his first live at the “Regular” Morphonic.records party. \nEnd of 2008 first release is out on Geomagnetic.rec (USA) with the track “Crystal-Activity” Beginning of 2009\, Fabry signed with Morphonic.rec (japanise & french label) and released a digital EP “i2D1”. After that\, the Biokinetix sound started to propagate on the dance-floors worldwide including Live performances in Europe tour ... \n2010 started with the release of his “first debut album CD I3D1” on the big label Geomagnetic.rec \,after that biokinetix released on many compils around the world\, mind-control.rec / goa.rec / hadra.rec / Planet-BEN / digital-drugs-coalition.rec……. biokinetix continue is world tour and work on many project has the biorizer and AZERTY project.\nThe story continue with his 2rd Album CD (Biokinetix & Friends - Remixes Album I3D3) out in october 2010 on Digital-Drug.Records\, and His 3dr CD album “21st century” be released last january 2011 on morphonic.rec\n\nstay connected \;)\nhttp://www.myspace.com/biokinetix\n\nhttp://facebook.com/biokinetix\n\nhttp://soundcloud.com/biokinetix-1\n\nhttp://soundcloud.com/biokinetix\n\nhttp://www.youtube.com/view_play_list?p=DDA4BA7D44666A5D\n\n\n\nBIORIZER (live) - FULL ON PSYTRANCE - Paris\, France\n[Geomagnetic.rec | Morningstar.rec]\n\nBiorizer is the project of Biokinetix and Mesmerizer.\nThe fusion of this 2 popular project made a crazy full power psytrance.\n\nAfter many released together in (Mindcontrol\, Morphonic\, Geomagnetic\, Digital-Drugs....) and lives performance around the world\, such ( Portugal\, Russia\, Italia\, Austria and many more......) This project are became a big reference on the dance floor worldwide. \nBiorizer bild a crazy style\, mixing very hi-tech trance music with groovy bass\, power full acid lead and touch of melodical atmosphere.\n\nIn the near future Biorizer will release more tracks. \n\n\n\nALEX RIDLEY - ACID TECHNO - Winnipeg\, Canada\n[COMMUNIQUE RECORDS | FLAVORITE RECORDINGS]\n\nExpect bass-heavy grooves and percussive frenzies shredding through the sound system as Alex Ridley takes you on a musical pilgrimage. He constantly looks forward to pushing the Canadian sound one release at a time with original music to bring to the dance-floor.\n\nThe year 2010 saw Alex release a 3 track collaborative EP on the renowned US techno label Communique Records. (Komus & Ridley - Magnet EP) A few collaborations\, some remixes and a solo EP are projected for release in 2012.\n\nAside from a long list of local gigs Alex has played at Manitoba Electronic Music Exhibition (2009 and 2010)\, BrainFest (2008 and 2009)\, Connect Festival (Saskatchewan – 2009\, 2011)\, Regina (2007\, 2008 and 2009)\, Vancouver (2009) and at an after-party for the Movement: Detroit Festival (2011). Alex is also frequently heard on the local radio’s “CKUW 95.9FM: Phase One Radio” as a special guest DJ.\n\nAlex has been involved with Winnipeg's electronic music scene for nearly a decade and almost 200 shows. He is far from being a stranger to getting his feet wet with helping out events\, big and small. Alex has most notably worked for Winnipeg favourites: Soundwave Productions\, Winnipeg Psychadelic Productions\, Symptom Technologies and the quickly growing Manitoba Electronic Music Exhibition (MEME). \n\nBy day Alex works full-time for Sound Republic\, Winnipeg's largest event planning company responsible for booking the likes of world-class talent. Such as Tiesto\, Datsik\, Armin van Buuren\, Steve Aoki\, Killabits and LMFAO just to name a few.\n\nThis year looks very big for Alex Ridley\n\n\n\nZENTRIX - Montreal\, Canada\n[Digital Garden | Zenon Records]\n\n\n\nWAVE PARASITES - Montreal\, Canada\n[Logic Vision Records | Hardtimes]\n\n\n\nALIEN-A vs D.BRAIN - TWILIGHT - Montreal\, Canada\n[PRE5ENT M1NDED | LOGIC VISION RECORDS | EB TEAM | HARDTIMES]\n\n\n\nSMURFX vs SYNTHETIK - DARK PSYTRANCE - Montreal\, Canada\n[TWISTED TWINS]\n\n\n\nMore tba!\n\nTickets:\nEarly Birds (Till June 1st) - $15\nAdvance - $20\nDoor - $30\nDoor with proof of out of town - $20
CLASS:PUBLIC
CATEGORIES:
STATUS:CONFIRMED
PARTSTAT:ACCEPTED
END:VEVENT
END:VCALENDAR
