BEGIN:VCALENDAR
PRODID:RAVE.CA V17.0
X-WR-CALNAME:March Bass Madness: Cutline [Uk] Dream [Uk] Vilify, More
X-ORIGINAL-URL:https://www.rave.ca/event/46941/
VERSION:2.0
CALSCALE:GREGORIAN
METHOD:PUBLISH
BEGIN:VEVENT
DTSTAMP:20120131T195602Z
LAST-MODIFIED:20120131T195602Z
CREATED:20120131T195536Z
SEQUENCE:46941
ORGANIZER:Unknown
DTSTART:20120303T220800Z
DTEND:20120303T220800Z
UID:event_46941@rave.ca
SUMMARY:March Bass Madness: Cutline [Uk] Dream [Uk] Vilify\, More
LOCATION:Unknown
URL:https://www.rave.ca/event/46941/
DESCRIPTION:BIG TOOTH in association with PMI\n\nhttps://www.facebook.com/BigToothMtl\n&\nhttps://www.facebook.com/PMIdub\n\n\n\n★★★★★★ PRESENT ★★★★★★\n\n\n▄▄▄▄▄▄▄▄▄▄▄▄▄▄▄▄▄▄▄▄▄▄▄▄▄▄▄▄\n\nTHIS MARCH THE MADNESS IS BACK......\nMARCH BASS MADNESS \n2nd Edition\nNIGHT # 1\n▄▄▄▄▄▄▄▄▄▄▄▄▄▄▄▄▄▄▄▄▄▄▄▄▄▄▄▄\n\nAight bassheads\, the time has come to unveil the first of three parts to the most anticipated party month of the year!! That's right\, MARCH BASS MADNESS IS BACK!! And with the opening night being another monster collab between Big Tooth & PMI you know we aint just dickn' around! This is the real deal mo-fos! Guaranteed to melt all this snow around our freezin asses\, this shiznik is gonna get hot\, hot\, hot!! \n\nOk\, enough of all this bla\, bla\, bla.. Opening night goes down like this!!\n\nBAM! BOOM! POW!! \n\n★★★★ CUTLINE ★★★★\nBristol\, UK\nUKF Dubstep | NSFW | Pilot Records\n\nCutline’s capacity to drive crowds crazy is unparalleled. Their music combines beautiful melodies and classical musicianship with intensely powerful production and speaker-busting basslines. \n\nIf you’ve ever witnessed Cutline playing live\, or heard one of their incredible mixtapes\, then you’ll know that their jaw-dropping blends of dubstep\, drum & bass\, electro and every bass music genre in-between are guaranteed to destroy big room raves every time.\n\nMade up of childhood friends Dan Wilberforce and Jeryl Wilton\, Cutline formed in 2010 and their rise to prominence has been meteoric. They have released tracks on UKF\, Pilot Records\, Never Say Die\, Suicide Dub and their own Not Safe For Work label and lent their remixing skills to some of the world’s finest acts such as Roll Deep\, Danny Byrd & Netsky\, The Prototypes\, Aquasky and The Qemists\, with each track gaining more support than the last.\n\nAs the DJ elite line up to drop the latest Cutline tracks in their sets the boys have gained huge support for their multi-genre musical outings from a wide range of the world’s finest selectors including Skream\, Rusko\, Andy C\, Friction\, SKisM and even Paul Van Dyke\; A testament to Cutline’s fluent ability to fuse musical styles effortlessly.\n\nTheir UKF podcast received over 1.2 million streams and has been downloaded by more than 150\,000 people\, while their tracks have racked up in excess of 5\,000\,000 listens on YouTube. Cutline aren’t just internet heroes though\, regular radio support from the likes of MistaJam\, Annie Nightingale\, Nick Grimshaw\, Eddy Temple Morris\, The Wideboys and many more has seen Cutline’s public profile shoot through the roof while their DJ sets at events such as London’s Fabriclive and their tours across the globe have cemented them as one of the hottest DJ duos around.\n\n\nSONGS\n\nRUNNIN VIP - http://www.youtube.com/watch?v=461pyaJRtis\nCASCADE REMIX - http://www.youtube.com/watch?v=BXHAEOEA4yk\nLET ME GO - http://www.youtube.com/watch?v=NSUfrx38b-U\nPICTURE PERFECT - http://www.youtube.com/watch?v=Qdh1ghaKpo4\n\nhttps://www.facebook.com/cutlinemusic\nhttp://soundcloud.com/cutline\nhttp://twitter.com/cutlinemusic\n\n\n+\n\n\n★★★★ DREAM ★★★★\nLondon\, UK\nHeavy Artillery UK | UKF Dubstep | X147 Records\n\nDream (aka Rowan Jones) is Based out of London and he is a DJ/producer primarily focusing on dubstep influenced music with an incorporation of many different sounds. His music is already supported by the likes of Benga\, Skream\, Rusko\, Mr.Jam\, Chase & Status Skrillex etc\, and rightfully so this kid is dope! People had been eagerly awaiting the release of 'Go Hard/Most High'\, as he had continued to push back the dates so he can get them to perfection. The tracks were leaked and he decided to give the EP away for free as a FUCK YOU to the people who leaked the tunes!\n\nDream’s music gets coverage regularly on BBC Radio1\, 1 Xtra\, KISS FM and various pirate stations. Dream definitely is a force to reckon within the bass music scene. He is now working on a lot of new music and in recent times his new EP I Am Dream received major praise and is being played out by some of the biggest names in the game. With a release in the works on Circus Records expect BIG things from Dream in the near future!! \n\n\nSONGS\n\nGO HARD - http://www.youtube.com/watch?v=cekP0_9L2o0\nDUB RUNNER - http://www.youtube.com/watch?v=RA9A2QmfA5w\nTAKE MY BREATH AWAY REMIX - http://www.youtube.com/watch?v=iz5K49xchdE\n\nhttps://www.facebook.com/dreamdubstep\nhttp://soundcloud.com/dream-dubstep\nhttp://twitter.com/DreamDubstep\n\n\n▄▄▄▄▄▄▄▄▄▄▄▄▄▄▄▄▄▄▄▄▄▄▄▄▄▄▄▄\n\n\nWITH LOCAL SUPPORT FROM\n\n\n♫ VILIFY\n- BASS DRIVE -\n\nThis BASS vixen needs no introduction...... ♥\n\nhttp://www.wickedbad.net/vilify/\nhttps://www.facebook.com/pages/VILIFY/79966592973\n\n\n♫ VAKKUUM [US]\n- BIG TOOTH -\n\nhttps://www.facebook.com/Vakkuum\nhttp://soundcloud.com/vakkuum\n\n\n♫ W4RRIORS vs. ROUGH DRAFT\n- BIG TOOTH -\n\nhttps://www.facebook.com/theW4RRIORS\nhttp://soundcloud.com/w4rriors\nvs.\nhttps://www.facebook.com/roughdraftbass\nhttp://soundcloud.com/roughdraft\n\n\n♫ RYAN ORPHAN\n- HI SPL | IMPULSIVELY BRAINDEAD -\n\nhttps://www.facebook.com/ryanorphanmtl\nhttp://soundcloud.com/ryanorphan\n\n\n♫ CFE & RESIZE\n- PMI -\n\nhttps://www.facebook.com/CFEdubstep\n&\nhttps://www.facebook.com/resize.dubstep\nhttp://soundcloud.com/resize-dubstep\n\n\n♫ BLOOD PARTY\n- EXPLOITATION BASS -\n\nhttps://www.facebook.com/bmp111\nhttp://soundcloud.com/bloodparty\n\n\n▄▄▄▄▄▄▄▄▄▄▄▄▄▄▄▄\n\nVENUE TBA 24HRS IN ADVANCE\n\n▄▄▄▄▄▄▄▄▄▄▄▄▄▄▄▄▄\n\n\nTICKETS **AVAILABLE SOON\n\n15$ - EARLY BIRDS\n20$ - REGULAR BIRDS \n30$ - DOOR\n\nONLINE -> **AVAILABLE SOON\n\nWITH PROMOTERS **AVAILABLE SOON\n\nSTORES SOON!!!!\n\nAtom Heart : **AVAILABLE SOON\n364- ‐B Sherbrooke E \n(514) 843- ‐8484 \n\nOff The Hook: **AVAILABLE SOON\n1021a Sainte- ‐Catherine O \n(514) 499- ‐1021 \n\nMoog Audio (LAVAL): **AVAILABLE SOON\n1785 Saint-Martin\n(450) 681-3303\n\nSub- ‐V: **AVAILABLE SOON\n5666 Sherbrooke O NDG \n(514) 485- ‐4489 \n\n\n▄▄▄▄▄▄▄▄▄▄▄▄▄▄▄▄▄\n\nMORE INFO TO COME SOON!!!!\n▄▄▄▄▄▄▄▄▄▄▄▄▄▄▄▄▄\n\nSHOW SOME LUV….\nLIKE THESE PAGES\n\nBASE CONCEPT \nhttp://www.baseconcept.com/en\n\nMARCH BASS MADNESS\nhttps://www.facebook.com/MARCHBASSMADNESS\n\nBIG TOOTH\nhttps://www.facebook.com/BigToothMtl\n\nPURGATORY MUSIC INDUSTRIES\nhttp://www.facebook.com/pages/Purgatory-Music-Industries/141258572614473?ref=ts\n\nMess With The Best\nhttps://www.facebook.com/messwiththebest.ca
CLASS:PUBLIC
CATEGORIES:
STATUS:CONFIRMED
PARTSTAT:ACCEPTED
END:VEVENT
END:VCALENDAR
