BEGIN:VCALENDAR
PRODID:RAVE.CA V17.0
X-WR-CALNAME:Harder Than Fuck 2 - Salvation
X-ORIGINAL-URL:https://www.rave.ca/event/46870/
VERSION:2.0
CALSCALE:GREGORIAN
METHOD:PUBLISH
BEGIN:VEVENT
DTSTAMP:20120103T021518Z
LAST-MODIFIED:20120103T021518Z
CREATED:20120103T021413Z
SEQUENCE:46870
ORGANIZER:Unknown
DTSTART:20120302T210000Z
DTEND:20120302T210000Z
UID:event_46870@rave.ca
SUMMARY:Harder Than Fuck 2 - Salvation
LOCATION:Unknown
URL:https://www.rave.ca/event/46870/
DESCRIPTION:INTEL:\nFROM THE GUYS THAT BROUGHT YOU HARD AS FUCK & HARDER THAN FUCK\n\nOBJECTIVE:\nWE BRING YOU OUR REDEMPTION PARTY FOR HARDER THAN FUCK.\nSEEING OUR FIRST HARDER THAN FUCK HAD TO BE SHUT DOWN DUE TO SOME CIRCUMSTANCES WE WANT TO CARRY ON THE 'AS FUCK' SEQUENCE PROPERLY!!!!\n\n---------------------------------------------------\nATTACK PATTERN:\n\n9-10 ZYRKO: TRASH ELECTRO\nhttp://soundcloud.com/zyrko\n\n10-11 DJ SHAO: DRUMSTEP/DUBSTEP\nhttp://soundcloud.com/djshao-mtl\n\n11-12 FRED JONES: DUBSTEP\nhttp://soundcloud.com/fredjones-212-1\n\nRYAN ORPHAN: FILTHSTEP\nhttp://soundcloud.com/ryanorphan\n\n1-2 SOSA: DNB/HARDSTYLE\n\n2-3 THE DIVIDER & TECKNICAL KRYMEZ (LIVE) HARDSTYLE/ROUGHTSTYLES\nhttp://soundcloud.com/tecknical-krymez (Tecknical KrymZ)\n\n3-4 BASS MECHANICS: HARDSTEP/HARDBASS/RAWSTYLES\n\n4-5 RANCID CONCOCTIONS: HARDCORE GABBER\n\n5-6 SaSQ: JUNGLE DNB\n\n6-7 STRANGELOVE: DUBSTEP/DNB\n\n\n***STEALTH MOVEMENT REQUIRED***\n\n---------------------------------------------------\n\nTickets are now on sale from:\nMax 514-435-6690 (West island)\nPsychonaut (NOT UNTIL JANUARY 5TH)\nPre sale: $10\nDoor: $15\n\nWater = $2.00 for one and $3.00 for two.\n\nNO GLASS OR WEAPONS!!!\n\n---------------------------------------------------\nLighting: SonoFlex\nhttp://www.facebook.com/sonoflex\n---------------------------------------------------\nPhotography:\n\nImpulsivelyBraindead\nhttp://www.facebook.com/DirtyUnderground\n+\nKorhal Rave Photography\nhttp://www.facebook.com/pages/Korhal-Rave-Photography/153028671455020?ref=ts&sk=wall\n\n---------------------------------------------------\nLive Painting: EP1C (Sharon Hodgson)\nhttp://www.facebook.com/MusEP1C?sk=wall\n\nhttp://ep1c.ca/\n---------------------------------------------------\nBrought to you by:\n\nMHC--Clubbangin Frequencies--Bass Efekt Productions-- HAF Productions
CLASS:PUBLIC
CATEGORIES:
STATUS:CONFIRMED
PARTSTAT:ACCEPTED
END:VEVENT
END:VCALENDAR
