BEGIN:VCALENDAR
PRODID:RAVE.CA V17.0
X-WR-CALNAME:Contakt V.10
X-ORIGINAL-URL:https://www.rave.ca/event/46822/
VERSION:2.0
CALSCALE:GREGORIAN
METHOD:PUBLISH
BEGIN:VEVENT
DTSTAMP:20130505T165840Z
LAST-MODIFIED:20130505T165840Z
CREATED:20111213T165130Z
SEQUENCE:46822
ORGANIZER:Cruz Control
DTSTART:20131220T220000Z
DTEND:20131221T030000Z
UID:event_46822@rave.ca
SUMMARY:Contakt V.10
LOCATION:CFC
URL:https://www.rave.ca/event/46822/
DESCRIPTION:
CLASS:PUBLIC
CATEGORIES:
STATUS:CONFIRMED
PARTSTAT:ACCEPTED
END:VEVENT
END:VCALENDAR
