BEGIN:VCALENDAR
PRODID:RAVE.CA V17.0
X-WR-CALNAME:Fubar Halloween
X-ORIGINAL-URL:https://www.rave.ca/event/46731/
VERSION:2.0
CALSCALE:GREGORIAN
METHOD:PUBLISH
BEGIN:VEVENT
DTSTAMP:20111026T123753Z
LAST-MODIFIED:20111026T123753Z
CREATED:20111026T123508Z
SEQUENCE:46731
ORGANIZER:Unknown
DTSTART:20111030T220000Z
DTEND:20111031T030000Z
UID:event_46731@rave.ca
SUMMARY:Fubar Halloween
LOCATION:Unknown
URL:https://www.rave.ca/event/46731/
DESCRIPTION:Venez célébrer la fête des morts au Bar Passeport avec Pink Popo\, Lyra\, Bass Mechanics\, Alakazoo et VNFX! 2011 marque le 3e anniversaire de l'édition Halloween des soirées F.U.B.A.R. et pour la deuxième année consécutive au Bar Passeport.\n\nCome celebrate the dead at Bar Passeport with Pink Popo\, Bass Mechanics\, Alakazoo and VNFX!! This year also marks the Halloween edition's 3rd anniversary and 2nd at Bar Passeport.
CLASS:PUBLIC
CATEGORIES:
STATUS:CONFIRMED
PARTSTAT:ACCEPTED
END:VEVENT
END:VCALENDAR
