BEGIN:VCALENDAR
PRODID:RAVE.CA V17.0
X-WR-CALNAME:School Of Bass 18
X-ORIGINAL-URL:https://www.rave.ca/event/46730/
VERSION:2.0
CALSCALE:GREGORIAN
METHOD:PUBLISH
BEGIN:VEVENT
DTSTAMP:20111024T165150Z
LAST-MODIFIED:20111024T165150Z
CREATED:20111024T164821Z
SEQUENCE:46730
ORGANIZER:Unknown
DTSTART:20111105T220000Z
DTEND:20111106T030000Z
UID:event_46730@rave.ca
SUMMARY:School Of Bass 18
LOCATION:Brixton's British Pub
URL:https://www.rave.ca/event/46730/
DESCRIPTION:We're bringing in Méta B from Montreal! He's the co-owner of Monkey Dub recordings. Be prepared for one serious DnB night! RT60 is touching down the decks again st School Of Bass\, and Mugz is on the bill as well on this one. So this is one night you don't want to miss!! Also two more Djs from Montreal\, Nitrous and Kensai!! This is going to be a *crazy* night!\n\nKing Kong formation:\n\n- Méta B (Montreal) - [Monkey Dub Recordings] - DnB\n\nvs\n\n- Kensaii (Montreal) - [Monkey Dub Recordings\, In Da Jungle Recordings] - DnB\n\nand also:\n\n- Nitrous (Montreal) - [Monkey Dub Recordings\, In Da Jungle Recordings] - DnB\n\n- RT60 - [Monkey Dub Recordings\, Big Shovel Sound\, School Of Bass] - Dubstep\nhttp://soundcloud.com/rt60\n\n- Mugz - [School Of Bass] - Dubstep\, DnB\n\nCome over support your local DnB scene! Massive bass lined all night!\n\n4$ bar rails before midnight!\n15.50$ Blue pitcher drink deal all night!\nBottle service: Smirnoff Vodka or Canadian Club whiskey at 115$ including tip and taxes.\n\nSaturday November 5th\nClasses start at 10pm! Be there early to get your drink deals!!\n6$ at the door BEFORE 11h00pm\, 8$ after.\n+19 with valid photo I.D. required\nP.L.U.R. NO MARKERS.
CLASS:PUBLIC
CATEGORIES:
STATUS:CONFIRMED
PARTSTAT:ACCEPTED
END:VEVENT
END:VCALENDAR
