BEGIN:VCALENDAR
PRODID:RAVE.CA V17.0
X-WR-CALNAME:Badass Halloween Iszoloscope
X-ORIGINAL-URL:https://www.rave.ca/event/46596/
VERSION:2.0
CALSCALE:GREGORIAN
METHOD:PUBLISH
BEGIN:VEVENT
DTSTAMP:20260209T021522Z
LAST-MODIFIED:20260209T021522Z
CREATED:20111010T233342Z
SEQUENCE:46596
ORGANIZER:Unknown
DTSTART:20111028T210000Z
DTEND:20111029T030000Z
UID:event_46596@rave.ca
SUMMARY:Badass Halloween Iszoloscope
LOCATION:L'Hemisphere Gauche
URL:https://www.rave.ca/event/46596/
DESCRIPTION:// // // // // // // // // // // // // // // // \n\n+ party de Fête a :: K2 ::\n// // // // // // // // // // // // // // // // \n\nVendredi \, 28 Octobre 2011 \n\nhttp://s22.photobucket.com/albums/b316/infirmiere_k2/?action=view&amp\;current=iszooo.jpg\nhttp://i22.photobucket.com/albums/b316/infirmiere_k2/iszooo.jpg\n\n// // // Performances // // //\n\nLIVE\nShow d'\n*Iszoloscope &gt\; http://www.iszoloscope.net/\n\n\nShow danse Tribal-fusion\n* Rachel Morrow\n* SIS Void\n* Ravenlyght\n\n\n:: BADASS DJ's ::\n*Blackpaps \n*Cytotoxik &gt\; http://www.djcytotoxik.com/\n*MegaAlex\n\n\nAnimation \n*Circea Desire\n\n\n\n::Badass Beats::\n\nHard Electronics\nRythmic Industrial Noise\nHarsh Industrial\nHard Tech\nIDM / Dark Ambient\nPE-PE-PEW\n\n\nCOVER : 10 $ a la porte ( 7 $ billet en prévente ) \n22h a 3h\n\n@ L’Hémisphère Gauche &gt\; http://www.hemispheregauche.com/\n221 Beaubien Est\nMontréal (Québec)
CLASS:PUBLIC
CATEGORIES:
STATUS:CONFIRMED
PARTSTAT:ACCEPTED
END:VEVENT
END:VCALENDAR
