BEGIN:VCALENDAR
PRODID:RAVE.CA V17.0
X-WR-CALNAME:The Beat Freakz - Rcola &amp; Kurse
X-ORIGINAL-URL:https://www.rave.ca/event/46585/
VERSION:2.0
CALSCALE:GREGORIAN
METHOD:PUBLISH
BEGIN:VEVENT
DTSTAMP:20111005T163349Z
LAST-MODIFIED:20111005T163349Z
CREATED:20111005T163232Z
SEQUENCE:46585
ORGANIZER:Unknown
DTSTART:20111013T210000Z
DTEND:20111013T230000Z
UID:event_46585@rave.ca
SUMMARY:The Beat Freakz - Rcola & Kurse
LOCATION:Onvii
URL:https://www.rave.ca/event/46585/
DESCRIPTION:Jeudi 13 octobre 2011\, BEAT FREAKZ sur [ djweb.tv ]\n\nCette semaine nous sommes fier de vous présenter :\n\n========================================\n\n\nRCOLA\n\nRCola\, Canadian Producer and DJ. Co-founded the Chopstick Dubplate label with Liondub and Jacky Murda in 2002. In 2004\, he started the JungleXpeditions music group and kicked out his first solo-release on is Royal Crown record label.\n\nRCola has been named as one of the top ten ragga-jungle artists in the world by KMag\, no doubt fueled by his music and collaborative efforts in keeping ragga-jungle music up front and center.\n\nHis album "Rub A Dub Wize" traces his inspiration from reggae and dub music to the irresistible up-tempo pace of the contemporary genre of drum ‘n bass that continues to inform his patented uplifting ragga-jungle production style.\n\nRCola has undoubtedly created an empire of his own from the ground up\; running one of the only Music Distributions specializing in Ragga-Jungle\, playing 250+ shows in 20 countries\, and releasing 25 tunes on Vinyl\, and more digitally via his online shop @ www.junglex.ca.\n\nAlways on the lookout for new artists to promote and new music to play\, RCola keeps the jungle fires burning with his positive vibes and uplifting tunes.\n\nKURSE\n(Montreal - Drum N bass)\n\nBio : Electronic music enthusiast from an early age\, DJ Kurse started mixing in the mid-2000’s.\nAt first he was interested in more diverse styles and he soon became known by mixing in many rave parties.\nSoon later\, he discovered an intense passion for drum & bass and began performing in several clubs in Montreal and on the Urban Beatster radio (RIP).\nHe was recently invited to *Wicked!*\, a DnB radio show in Paris hosted by Niveau Zero.\nHe is most known for playing tech-step and neurofunk Drum & Bass and he is recognized for his excellent technique on the turntables.\nHe is always ready to get the party up and going on a steady 180 BPM!\n\nInfluences : Alcohol and Desperation\n\nWebsite: http://www.soundcloud.com/kurse\n\n-=-=-=-=-=-=-=\n\nPrepare yourself for good vibes only!!!!!\n\nNe pas oublier que nous sommes disponible sur iphone mais seulement en direct les jeudis pour l'instant\n[ www.djweb.tv/iphone ]\n\nDon't forget that we are on iphone but only live on thursday for now\n[ www.djweb.tv/iphone ]\n\n...................................................................\n\n:: BEAT FREAKZ :: [ DJWEB.TV ]\n\nLIVE DJ SHOW: PRESENTING LIVE MUSIC OF ALL KINDS\, FINEST PRODUCERS AND LIVE PERFORMERS IN MONTREAL\n\nJeudi / Thursday 9 - 11 PM\n\nStudio Onvii\n1410 Wolfe\, Montréal\nStations Beaudry / Berri-UQAM\n\n.....................\n\nPrestation de DJs avec public et caméras: À la place de boire de l'alcool tout seul chez vous. On vous invite à venir les jeudis avant de sortir dans les clubs. Le but est de vous divertir et vous informer sur la scène musicale montréalaise. C'est BYOB en passant. Si vous ne pouvez vous déplacer écoutez le résultat en direct sur le web. Le tout se déroulera de 21hrs à 23hrs.\n\nBEAT FREAKZ CREW : Scott And Gaby with host Ella Grave\n\n.....................\n\nDJs performing in front of an audience and cameras: Instead of getting drunk by yourself at home\, we invite you to come out Thursdays before hitting your favorite night. Our goal is to entertain and inform people about the Montreal non-mainstream music scene. It’s a BYOB typa thing. If you can't make it. Tune in on [ DJWEB.TV ] web site live n direct on the web! Goin' on from 9 to 11 PM.\n\nBEAT FREAKZ CREW : Scott And Gaby with host Ella Grave
CLASS:PUBLIC
CATEGORIES:
STATUS:CONFIRMED
PARTSTAT:ACCEPTED
END:VEVENT
END:VCALENDAR
