BEGIN:VCALENDAR
PRODID:RAVE.CA V17.0
X-WR-CALNAME:Death Disco
X-ORIGINAL-URL:https://www.rave.ca/event/46275/
VERSION:2.0
CALSCALE:GREGORIAN
METHOD:PUBLISH
BEGIN:VEVENT
DTSTAMP:20110901T111732Z
LAST-MODIFIED:20110901T111732Z
CREATED:20110831T162624Z
SEQUENCE:46275
ORGANIZER:Unknown
DTSTART:20110924T220000Z
DTEND:20110925T020000Z
UID:event_46275@rave.ca
SUMMARY:Death Disco
LOCATION:Swizzles
URL:https://www.rave.ca/event/46275/
DESCRIPTION:Death Disco is Ottawa's weekly Dark Alternative club night!\n\nEach week features two DJs from the pool of resident DJs Dolston\, Alis\, kNiveD\, Enyd\, Phillihp\, Reverie.\n\nNo dress code\, no cover\, 19+\, 10 PM
CLASS:PUBLIC
CATEGORIES:
STATUS:CONFIRMED
PARTSTAT:ACCEPTED
END:VEVENT
END:VCALENDAR
