BEGIN:VCALENDAR
PRODID:RAVE.CA V17.0
X-WR-CALNAME:Beat Freakz Presents G.I.G.A.N.T.E. Super Crew!
X-ORIGINAL-URL:https://www.rave.ca/event/46268/
VERSION:2.0
CALSCALE:GREGORIAN
METHOD:PUBLISH
BEGIN:VEVENT
DTSTAMP:20110830T164649Z
LAST-MODIFIED:20110830T164649Z
CREATED:20110829T095554Z
SEQUENCE:46268
ORGANIZER:Unknown
DTSTART:20110901T210000Z
DTEND:20110901T210000Z
UID:event_46268@rave.ca
SUMMARY:Beat Freakz Presents G.I.G.A.N.T.E. Super Crew!
LOCATION:Onvii Studio-Loft
URL:https://www.rave.ca/event/46268/
DESCRIPTION:Jeudi 1 Sept 2011\, BEAT FREAKZ sur [ djweb.tv ]\n\nCette semaine nous sommes fier de vous présenter :\n\nThe BoomBap Cats (http://www.boombapcats.com/)\n\n========================================\nMehdi Cee (of The Boombap Cats)\nhttp://www.boombapcats.com/\n\nhttps://www.facebook.com/group.php?gid=124489007571582\n\n========================================\nCracked Lips (of Murderface)\nhttp://www.myspace.com/murderface514\n\nhttps://www.facebook.com/group.php?gid=102074189837095&\nv=wall\n\n========================================\nArt Cons (BK & Butter)\nhttp://www.myspace.com/artcons\n\nhttps://www.facebook.com/pages/Art-Cons/104590572937233\n\n========================================\n\nSlik Jack\nhttp://www.youtube.com/user/SlikJack1\n\nhttp://www.myspace.com/slikjack\n\n========================================\n\nDave Dialect\n\nhttp://www.davedialect.com/\nhttp://www.soundcloud.com/dave-dialect\n\n=========================================\nSpook One\nhttp://spookone.bandcamp.com/\nhttp://twitter.com/spook_one\n\n=========================================\nAspect Mendoza (Beatlejuice Prod) http://aspectmendoza.bandcamp.com/\nwww.myspace.com/aspectmendoza\nhttp://www.aspectmendoza.webs.com/\n\n-=-=-=-=-=-=-=\n\nPrepare yourself for good vibes only!!!!!\n\nNe pas oublier que nous sommes disponible sur iphone mais seulement en direct les jeudis pour l'instant\n[ djweb.tv ]\n\nDon't forget that we are on iphone but only live on thursday for now\n[ www.beatfreakz.ca ]\n\n...................................................................\n\n:: BEAT FREAKZ :: [ DJWEB.TV ]\n\nLIVE DJ SHOW: PRESENTING LIVE MUSIC OF ALL KIND\, FINEST PRODUCERS AND LIVE PERFORMERS IN MONTREAL\n\nJeudi / Thursday 9 - 11 PM\n\nStudio Onvii\n1410 Wolfe\, Montréal\nStations Beaudry / Berri-UQAM\n\n.....................\n\nPrestation de DJs avec public et caméras: À la place de boire de l'alcool tout seul chez vous. On vous invite à venir les jeudis avant de sortir dans les clubs. Le but est de vous divertir et vous informer sur la scène musicale montréalaise. C'est BYOB en passant. Si vous ne pouvez vous déplacer écoutez le résultat en direct sur le web. Le tout se déroulera de 21hrs à 23hrs.\n\nBEAT FREAKZ CREW : Scott And Gaby\n\n.....................\n\nDJs performing in front of an audience and cameras: Instead of getting drunk by yourself at home\, we invite you to come out Thursdays before hitting your favorite night. Our goal is to entertain and inform people about the Montreal non-mainstream music scene. It’s a BYOB typa thing. If you can't make it. Tune in on [ DJWEB.TV ] web site live n direct on the web! Goin' on from 9 to 11 PM.\n\nBEAT FREAKZ CREW : Scott And Gaby
CLASS:PUBLIC
CATEGORIES:
STATUS:CONFIRMED
PARTSTAT:ACCEPTED
END:VEVENT
END:VCALENDAR
