BEGIN:VCALENDAR
PRODID:RAVE.CA V17.0
X-WR-CALNAME:Death Disco
X-ORIGINAL-URL:https://www.rave.ca/event/46010/
VERSION:2.0
CALSCALE:GREGORIAN
METHOD:PUBLISH
BEGIN:VEVENT
DTSTAMP:20110727T145649Z
LAST-MODIFIED:20110727T145649Z
CREATED:20110727T145359Z
SEQUENCE:46010
ORGANIZER:Unknown
DTSTART:20110730T220000Z
DTEND:20110731T020000Z
UID:event_46010@rave.ca
SUMMARY:Death Disco
LOCATION:Swizzles
URL:https://www.rave.ca/event/46010/
DESCRIPTION:Death Disco\nOttawa's weekly dark Alternative club night!\n\nfeaturing:\n\nDJ Reverie (EBM / Industrial\, Positronic Radio\, Future Pop\, Death Disco)\nDolston (Goth / Industrial\, Death Disco\, Cassette)\n\n@ Swizzles\, 246 Queen St (between Bank & Kent)\n19+\, Doors at 10 PM\, No cover!
CLASS:PUBLIC
CATEGORIES:
STATUS:CONFIRMED
PARTSTAT:ACCEPTED
END:VEVENT
END:VCALENDAR
