BEGIN:VCALENDAR
PRODID:RAVE.CA V17.0
X-WR-CALNAME:Sunday @ The Gazebo
X-ORIGINAL-URL:https://www.rave.ca/event/45486/
VERSION:2.0
CALSCALE:GREGORIAN
METHOD:PUBLISH
BEGIN:VEVENT
DTSTAMP:20110725T135422Z
LAST-MODIFIED:20110725T135422Z
CREATED:20110702T052922Z
SEQUENCE:45486
ORGANIZER:Renegade Legion
DTSTART:20110703T210000Z
DTEND:20110703T210000Z
UID:event_45486@rave.ca
SUMMARY:Sunday @ The Gazebo
LOCATION:Unknown
URL:https://www.rave.ca/event/45486/
DESCRIPTION:
CLASS:PUBLIC
CATEGORIES:
STATUS:CONFIRMED
PARTSTAT:ACCEPTED
END:VEVENT
END:VCALENDAR
