BEGIN:VCALENDAR
PRODID:RAVE.CA V17.0
X-WR-CALNAME:Wally Feat Ella, King Kong, Dialect &amp; Eloi &amp; Heights @ Piknic Electronik
X-ORIGINAL-URL:https://www.rave.ca/event/45473/
VERSION:2.0
CALSCALE:GREGORIAN
METHOD:PUBLISH
BEGIN:VEVENT
DTSTAMP:20110628T193733Z
LAST-MODIFIED:20110628T193733Z
CREATED:20110628T193528Z
SEQUENCE:45473
ORGANIZER:Forward Music Montreal
DTSTART:20110703T150000Z
DTEND:20110703T190000Z
UID:event_45473@rave.ca
SUMMARY:Wally Feat Ella\, King Kong\, Dialect & Eloi & Heights @ Piknic Electronik
LOCATION:Parc Jean Drapeau
URL:https://www.rave.ca/event/45473/
DESCRIPTION:Eloi&Heights\n17h30 à 18h30\n\nhttp://www.facebook.com/Eloii.n.Heights\n\n***\n\nDialect\n16h30 à 17h30\n\nhttp://www.facebook.com/pages/Dave-Dialect/151949091534648?ref=ts\n\n***\n\nKing Kong (Meta B b2b Nitrous)\n15h30 à 16h30\n\nhttp://www.monkeydub.com/meta-b\nhttp://www.facebook.com/pages/Nitrous/7017773956\n\n***\n\nWally w/ mc Ella Grave\n15h00 à 15h30\n&\n18h30 à 19h00\n\nhttp://www.facebook.com/pages/Wally/71662628356\nhttp://www.myspace.com/genofthehardsteppers/\n\n\n\n\n\n15h to 19h Guru/STM stage @ Piknic electronik\n12$
CLASS:PUBLIC
CATEGORIES:
STATUS:CONFIRMED
PARTSTAT:ACCEPTED
END:VEVENT
END:VCALENDAR
