BEGIN:VCALENDAR
PRODID:RAVE.CA V17.0
X-WR-CALNAME:O C D J - Indica!
X-ORIGINAL-URL:https://www.rave.ca/event/45462/
VERSION:2.0
CALSCALE:GREGORIAN
METHOD:PUBLISH
BEGIN:VEVENT
DTSTAMP:20110621T192502Z
LAST-MODIFIED:20110621T192502Z
CREATED:20110621T190831Z
SEQUENCE:45462
ORGANIZER:Deadna Productions
DTSTART:20110628T220000Z
DTEND:20110629T030000Z
UID:event_45462@rave.ca
SUMMARY:O C D J - Indica!
LOCATION:Passeport\, Club
URL:https://www.rave.ca/event/45462/
DESCRIPTION:This week we groove to some Hard-Techno\, Hard-Acid\, and Dark Techno! On Tuesday\, June 28th\, OCDj is pleased to present one of Montreal's legends\, along with a couple of other legendary local DJ/Producers ::\n\n--> INDICA !! (Stay Up Forever / SweetLeaf - HardAcid\, HardTechno)\n--> Sarcastic !! (Standard Rec. / Level 4 - HardTechno)\n--> Milton Clark !! (Techno.fm / Kirk6 - Dark Techno)\n--> + resident Dj Nā ! (Deadna - HardTech\, Hardcore)\n\nOnly 4$ at the door! Coat-check & A/C included!\n@ Bar Le Passeport\, 2037 St. Denis (metro Berri-UQAM)\n\nSpecials:\nBottle of beer: 3$!\n2 Shots of hard: 6$!\n\nWe got lights! We got bass! We got distortion! And we got beer!\n\nOCDj: Montreal's HARDEST weekly event ...
CLASS:PUBLIC
CATEGORIES:
STATUS:CONFIRMED
PARTSTAT:ACCEPTED
END:VEVENT
END:VCALENDAR
