BEGIN:VCALENDAR
PRODID:RAVE.CA V17.0
X-WR-CALNAME:Back 2 The Future 2
X-ORIGINAL-URL:https://www.rave.ca/event/4538/
VERSION:2.0
CALSCALE:GREGORIAN
METHOD:PUBLISH
BEGIN:VEVENT
DTSTAMP:20041127T000000Z
LAST-MODIFIED:20041127T000000Z
CREATED:20040901T000000Z
SEQUENCE:4538
ORGANIZER:Unknown
DTSTART:20041231T210000Z
DTEND:20041231T210000Z
UID:event_4538@rave.ca
SUMMARY:Back 2 The Future 2
LOCATION:TBA
URL:https://www.rave.ca/event/4538/
DESCRIPTION:"Broadcasting beautiful views 24hrs a day\, You're tuned into the scenery channel..."\n \nWe now break for this very important message...\n \nAlright Winnipeg!!! \n\n!!PARTY!! - !!PARTY!! - !!PARTY!! - !!PARTY!!\n\nThat's right... Party Time.!!! NYE 2004/2005!\n \nOn friday\, December 31st\, 2004\, 4 Crews will unite again to bring you a massive New Years Eve specticle and one hell of a Crown Productions first birthday Celebration...\n \n \nBACK 2 THE FUTURE... PART 2 \n \n \nWith 5 out of town performances\, over 20 of Winnipegs top local djs\, a brand new multi-arena style venue with 3 rooms\, and a sound\, light and lazer experience that is going to blow your mind\, this is NOT an event you are going to want to miss!!!\n \n100 EARLY BIRD Tickets are available at NYCE RECORDS for only $20 untill DEC. 01!!\nTickets will be available for $30 thereafter at all of the usual vendors\; Frenzee\, Urban Bakery\, and Nyce Records.\n \nWE ARE EXPECTING ANOTHER SELL-OUT!!\nSo don't be left in the past!!!\nGET YOUR TICKETS FAST!!!!
CLASS:PUBLIC
CATEGORIES:
STATUS:CONFIRMED
PARTSTAT:ACCEPTED
END:VEVENT
END:VCALENDAR
