BEGIN:VCALENDAR
PRODID:RAVE.CA V17.0
X-WR-CALNAME:Cenotype @ Mutant Ninja Of Noise
X-ORIGINAL-URL:https://www.rave.ca/event/44796/
VERSION:2.0
CALSCALE:GREGORIAN
METHOD:PUBLISH
BEGIN:VEVENT
DTSTAMP:20110729T000355Z
LAST-MODIFIED:20110729T000355Z
CREATED:20110427T130540Z
SEQUENCE:44796
ORGANIZER:Unknown
DTSTART:20110730T200000Z
DTEND:20110731T030000Z
UID:event_44796@rave.ca
SUMMARY:Cenotype @ Mutant Ninja Of Noise
LOCATION:Cafe Chaos
URL:https://www.rave.ca/event/44796/
DESCRIPTION:==\n\nMUTANT NINJA OF NOISE\n(C.o.m.a electronoise festival \\ biometrik \\ harajuku Qc \\ The Ascension \\ New Breed v.1. \\ etc.) \n\nVous présente une série d'événements pour marquer notre 10e anniversaire d'organisation d'événements.\n\n\nSamedi 30 juillet 2k11\n8 pm @ 3 am.\n\n\n\nArtistes invités :\n\nCENOTYPE (New York - live)\n::: Hive records \\ Origin unfold - www.cenotype.com\n\nSYNTHAMESK (Montréal - live)\n::: Sublightrecords - www.myspace.com/synthamesk1\n \nNUKE CULT (Montréal & Québec - live)\n::: Side project de Olivier - Nicolas - Jonathan de Corrupted Suburbs\n\nGHOSTDOG (Montréal - live)\n::: Projet solo de Olivier de Corrupted Suburbs\n\nNEON CODE (Québec - live)\n::::Projet solo de Jonathan de Corrupted Suburbs\n\nVNFX (Montréal - dj)\n:::: F.U.B.A.R.\n\nBIOTEK (Québec - dj)\n:::: Soirées Harajuku Qc \\ Biometrik \\ C.o.m.a. electrnoise Festival\n\nALBIREO (Montréal - VJ)\n:::: VIsuels de films de zombies\, mutants\, ninja et plus !!! \n\n\n\nTables de Merch ::\n\nStéphane Dumais - bd\n::: www.raisinlove.com\n\nAo Designs - styliste\n::: www.aodesigns.ca\n\nNew World Conspiracy - Tshirts\n::: www.newworldconspiracy.com\n\n\n\n\nAutre ::\n\nTIRAGES DE CD TYMPANIK AUDIO\n::: www.tympanikaudio.com/\n\nPICHET MICRO BROMONT à 10 $\n::: Avant minuit \n\nBOUTEILLE MOUSQUETAIRE à 3 $\n::: Toute la nuit \n\n\n\nPrix d'entrée ::\n \n10 $ avant minuit \n15 $ après minuit \n\n\n\n\nSalle ::\n\nCafé Chaos\, \n2031 rue St-Denis.\nMontréal. Canada\nwww.cafechaos.qc.ca\n\n\n===
CLASS:PUBLIC
CATEGORIES:
STATUS:CONFIRMED
PARTSTAT:ACCEPTED
END:VEVENT
END:VCALENDAR
