BEGIN:VCALENDAR
PRODID:RAVE.CA V17.0
X-WR-CALNAME:Pandemonium Warm Up -- Southwild Live Et Cosmic Orgasm Live
X-ORIGINAL-URL:https://www.rave.ca/event/44795/
VERSION:2.0
CALSCALE:GREGORIAN
METHOD:PUBLISH
BEGIN:VEVENT
DTSTAMP:20110506T204908Z
LAST-MODIFIED:20110506T204908Z
CREATED:20110426T154340Z
SEQUENCE:44795
ORGANIZER:psy-bucheron prod / lumberjacks records
DTSTART:20110507T210000Z
DTEND:20110508T090000Z
UID:event_44795@rave.ca
SUMMARY:Pandemonium Warm Up -- Southwild Live Et Cosmic Orgasm Live
LOCATION:Unknown
URL:https://www.rave.ca/event/44795/
DESCRIPTION:En remplacement de Dark Prophecy il y aura un warm up pour le Festival Pandemonium\n\nSOUTHWILD LIVE ACT (Wild Things Records - Germany ) \n[ www.wildthingsrecords.co.uk ] \n[ www.myspace.com ] \n\nSouthwild is the new side project of Jay from Rastaliens\, a veteran psytrance producer from the Black Forest in the deep south of Germany who now resides in Toronto\, Canada. Throughout many years of production\, mastering\, and DJing\, Jay has found his own unique style of high-quality ‘twilight’ psytrance: slightly dark\, a little twisted\, super groovy and spaced out\, with a spark of insanity! Granular represents a free taste of Southwild’s upcoming debut album. There will also be several appearances on different labels such as Peak Records\, Mind Funk\, and many more–so keep your ears open for further releases! All tracks written\, produced\, and mastered by Jay/Southwild at Trailer Park Studios\, Toronto\, 2010 \n\n\nCOSMIC ORGASM (Psykonexus\,Canada) - LIVE! \n\n[ www.myspace.com ] \n\nCosmic orgasm is a duo project from Orbit and 1.61805.They have started two years ago\, sharing ideas and technique. By uniting computer and hardware generated music\, they focused on doing an incredible and one-of-a-kind live act. From dark full on to pure psy-trance\, their music is like rolling thunder on a vast and endless space feild. \n\nLine UP:\n\n21h00 @ 23h00 : Alakazoo dj set \n\n23h00 @ 12h00 : E.T. dj set\n\n12h00 @ 02h00 : Phaunos vs Soursweet dj set \n\n02h00 @ 03h30 : Cosmic Orgasm Live!\n\n03h30 @ 05h00 : SOUTHWILD Live!\n::: Wild Things Records - Germany :::\nwww.wildthingsrecords.co.uk \n\n05h00 @ 06h00 : Psyrenity dj set\n\n06h00 @ 07h00 : Danin djset\n\n07h00 @ 08h00 : Akibel dj set\n\n\ndécp par Psychedelic Sanctuary Creations\n\n\n15$ à l'avance\n20$ à la porte\n\nspécial:\n50$ pour un billet pour la soirée et un billet Pour le festival Pandemonium (du 8 au 11 juillet) limite de 30 billet seulement premier arriver premier servis\n\nBillet en vente au :\nPsychonaut\, 154 Rue Prince-Arthur E\n514-844-8998 \ninfo@psychonaut.ca\n[www.psychonaut.ca]\n\nEndroit révlé 24h à l'avance sur facebook\n\n\nhttp://www.facebook.com/event.php?eid=179615135421577
CLASS:PUBLIC
CATEGORIES:
STATUS:CONFIRMED
PARTSTAT:ACCEPTED
END:VEVENT
END:VCALENDAR
