BEGIN:VCALENDAR
PRODID:RAVE.CA V17.0
X-WR-CALNAME:Black Hole V2 : Kashyyyk 4 Hours Live-Act! (Mexico)
X-ORIGINAL-URL:https://www.rave.ca/event/44787/
VERSION:2.0
CALSCALE:GREGORIAN
METHOD:PUBLISH
BEGIN:VEVENT
DTSTAMP:20160927T020901Z
LAST-MODIFIED:20160927T020901Z
CREATED:20110421T210335Z
SEQUENCE:44787
ORGANIZER:psy-bucheron prod / lumberjacks records
DTSTART:20120331T230000Z
DTEND:20120401T100000Z
UID:event_44787@rave.ca
SUMMARY:Black Hole V2 : Kashyyyk 4 Hours Live-Act! (Mexico)
LOCATION:LVR Temple\, 5430 Rue D'Iberville\, Montréal (capacity 500+ peeps)
URL:https://www.rave.ca/event/44787/
DESCRIPTION:The Black Hole is back ! This story is not exactly about psytrance\, prog\, techno... This is totally unique\, magic\, epic! Forget your heavy ununderstanding body\, leave the ground and let your mind enjoy this pure time travel flight.\nWelcome onboard the vessel... your main pilots : KASHYYYK from the precursory KAMINO records.\n\n----------------------------------------------------------\nLogic Vision Prods and Lumberjack Prod. are happy to present you this new edition of BLACK HOLE\, the 1st Hitech-psy party in Canada\, with our special guests:\n\nKASHYYYK 4hours live-act :::Kamino Records ::: Mexico\nPablo Valdes from Mexico City\, born the 12 of April of 1977\, musician since 14 years old\, always motivated to express his inner thoughts and feelings thru the infinite possibilities." \nhttp://www.facebook.com/pages/kashyyyk/124734814214626?sk=wall\n\n\n+ special LOGIC VISION Commando with:\n\nLE DRUIDE___ live-act (Hitech Psytrance)\n\nSHANGO vs NAINITA___ Djset (Forest Psytrance)\n\nALAKAZOO___ Djset (Psycore)\n\nDER DENKER___Djset (Dark Swampish techno)\n\nPSYDRUID___Djset (NeoGoa Trance)\n\nOTKUN ___ Djset (Psydub)\n\n\n12 HOURS of Psychedelic Madness !!!!\n\n-------------------------------------------------------------------------------------------\n\nDéco par NEUROMANTIX (Toronto) \nhttp://www.wix.com/calicarm10/neuromantix\n\nThe Message store (Toronto)\nhttps://www.facebook.com/pages/The-Message-store/110219389047690\n\nFlyer Design by Tsotso:\nhttps://www.facebook.com/pages/Tsotso/228173493928438\n\n***************************************************\nBar(18+) Alcohol + Beverages\, Friendly Security\nWarning\, No Glass or Bottle of Alcohol is permitted inside\nNo Smoking Inside\, we provide a space for that\, backdoor\nBe respectful and bring your best smile. \nCome to contribute not to consume.\n\nNo Guestlist\nFriendly Security\n\nLove & Light ♥\n****************************************************\n\nCover: tickets available February 1st @ Psychonaut\, Montreal \n\nONLINE TICKETS available @ http://www.wantickets.com/Events/98889/Logic-Vision-meets-Kamino-records-KASHYYYK-INSECTOR-live/\n\n25$ presales\n35$ door\n\nOut of Town (Laval and Longueil not included) : \n25$ \n\n\nTimeslots: \n\n23h Alakazoo vs Na ___djset! (Darkpsy)\n\n00h30 Shango vs Nainita ___djset! (Forest Psytrance )\n\n2h KASHYYYK ___live! (Darkpsy to Hitech)\n\n6h Le Druide ___live! (Hitech)\n\n:::::::::::::::::::::::::::::::::::::::::::::::::::::::::\n\nTimeslots: \n\n\n23h Alakazoo vs Na ___djset! (Darkpsy)\n\n00h30 Shango vs Nainita ___djset! (Forest Psytrance )\n\n2h KASHYYYK ___live! (Darkpsy to Hitech)\n\n6h Le Druide ___live! (Hitech)\n\n7h30 Otkun ___ djset (Darkgroove)\n\n8h30 Psydruid ___djset! (Psytrance) \n\n9h30 Der Denker___ djset! (Swamp Tech)\n\n\n♥ Boom Ganesha :)
CLASS:PUBLIC
CATEGORIES:
STATUS:CONFIRMED
PARTSTAT:ACCEPTED
END:VEVENT
END:VCALENDAR
