BEGIN:VCALENDAR
PRODID:RAVE.CA V17.0
X-WR-CALNAME:Psybass The 13 ............ 9e Edition
X-ORIGINAL-URL:https://www.rave.ca/event/44785/
VERSION:2.0
CALSCALE:GREGORIAN
METHOD:PUBLISH
BEGIN:VEVENT
DTSTAMP:20120102T210302Z
LAST-MODIFIED:20120102T210302Z
CREATED:20110421T142418Z
SEQUENCE:44785
ORGANIZER:SPAK!
DTSTART:20120113T210000Z
DTEND:20120114T030000Z
UID:event_44785@rave.ca
SUMMARY:Psybass The 13 ............ 9e Edition
LOCATION:Bain Mathieu
URL:https://www.rave.ca/event/44785/
DESCRIPTION:
CLASS:PUBLIC
CATEGORIES:
STATUS:CONFIRMED
PARTSTAT:ACCEPTED
END:VEVENT
END:VCALENDAR
