BEGIN:VCALENDAR
PRODID:RAVE.CA V17.0
X-WR-CALNAME:Electroslave Vs Death Disco
X-ORIGINAL-URL:https://www.rave.ca/event/44313/
VERSION:2.0
CALSCALE:GREGORIAN
METHOD:PUBLISH
BEGIN:VEVENT
DTSTAMP:20110309T100020Z
LAST-MODIFIED:20110309T100020Z
CREATED:20110309T095804Z
SEQUENCE:44313
ORGANIZER:Unknown
DTSTART:20110312T220000Z
DTEND:20110313T030000Z
UID:event_44313@rave.ca
SUMMARY:Electroslave Vs Death Disco
LOCATION:Swizzles
URL:https://www.rave.ca/event/44313/
DESCRIPTION:DJ Reverie alongside fellow ElectroSlave resident\, DJ Zurgma\, and other Death Disco residents this Saturday\, March 12th for my birthday.\n\nWe'll be playing a mix of EBM\, Futurepop\, Synthpop\, Electro\, Aggrotech and Industrial. If you're into dark EDM or Industrial\, this night is for you!\n\nThere is no cover\, event starts at 10 PM\, 19+ and all of this is at Swizzles\, 246 Queen St in Ottawa.
CLASS:PUBLIC
CATEGORIES:
STATUS:CONFIRMED
PARTSTAT:ACCEPTED
END:VEVENT
END:VCALENDAR
