BEGIN:VCALENDAR
PRODID:RAVE.CA V17.0
X-WR-CALNAME:We Are In Trouble With Mom
X-ORIGINAL-URL:https://www.rave.ca/event/44159/
VERSION:2.0
CALSCALE:GREGORIAN
METHOD:PUBLISH
BEGIN:VEVENT
DTSTAMP:20110307T001055Z
LAST-MODIFIED:20110307T001055Z
CREATED:20110307T000319Z
SEQUENCE:44159
ORGANIZER:Unknown
DTSTART:20110310T200000Z
DTEND:20110311T030000Z
UID:event_44159@rave.ca
SUMMARY:We Are In Trouble With Mom
LOCATION:Gymnase\, Le
URL:https://www.rave.ca/event/44159/
DESCRIPTION:AVEC EN FORMAT LIVE\n\nA.N.I. (ITWM - Lyon - FR)\nFLORIAN MSK (ITWM\, 64hz - Montréal - CA)\n\nDj SET\nSIPHERDEE (ITWM\, Syndroma\, 64hz - Montréal - CA)\n\nWARM UP : BONUS BEATS (64hz - Montréal - CA)\n\nVJ OKUS FOKUS\n\nIn Trouble With Mom (ITWM) est un nouveau label montréalais qui a pour ambition ultime de déplaire fortement à votre mère. Une soirée de lancement aura lieu le 10 MARS afin de bien étaler le sérieux de cette mission délicate.\n\nCette soirée accueillera en grande pompe\, venant d'Europe uniquement pour vos mamans\, un artiste à l'avant-garde des sonorités électro qui sont la marque de la France ! Cet artiste hybride quelque part entre Teenage Bad Girl et Olivier Huntemann\, qui n'est nul autre qu' A.N.I. (ITWM)\, saura vous faire danser en récitant l'alphabet pendant des heures et des heures pendant que votre génitrice vous cherche !\n\nFLORIAN MSK (ITWM\, 64hz)\, récemment interné chez ITWM records\, injectera à dose létal un Live Act pathologique.\n\nL'expérimentation se poursuivera avec SIPHERDEE (ITWM\, Syndroma\, 64hz)\, personnage au coeur du génome Syndroma. Ses sélections déjantées assureront une cadence des plus infernales.\n\nLe coup d'envoi de la soirée sera le fait du machiavélique Bonus Beats (64hz)\, qui concoctera une mixture audio bizarre et bruyante à faire pleurer la femme qui vous a donné le jour.
CLASS:PUBLIC
CATEGORIES:
STATUS:CONFIRMED
PARTSTAT:ACCEPTED
END:VEVENT
END:VCALENDAR
