BEGIN:VCALENDAR
PRODID:RAVE.CA V17.0
X-WR-CALNAME:Research Phase - Free Party
X-ORIGINAL-URL:https://www.rave.ca/event/43756/
VERSION:2.0
CALSCALE:GREGORIAN
METHOD:PUBLISH
BEGIN:VEVENT
DTSTAMP:20111217T172002Z
LAST-MODIFIED:20111217T172002Z
CREATED:20110209T193638Z
SEQUENCE:43756
ORGANIZER:NHCL
DTSTART:20110422T223000Z
DTEND:20110423T073000Z
UID:event_43756@rave.ca
SUMMARY:Research Phase - Free Party
LOCATION:Unknown
URL:https://www.rave.ca/event/43756/
DESCRIPTION:carte : http://www.rave.ca/en/image/full/380910/\n\nDIRECTION+CARTE+COMMENT VOUS RENDRE: \n\n1) Métro Viau \n2) Pierre-de-Coubertin jusqu'à la rue Viau \n3) Descendre Viau direction Sud jusqu'au chemin de terre ( juste en bas de la rue De \nRouen) \n4) Continuer vers l'est sur le chemin de terre jusqu'à la voie ferrée \n5) Suivre les glowsticks \n\ncarte : http://www.rave.ca/en/image/full/380910/\nBonne chance!\n\nAu mois d'Août 2010\, un terrible virus s'échappa. Ceux qui étaient présents à The Escape furent contaminés.\n\nPendant plusieurs mois\, nous avons tenté de trouver un remède.\n\nDécembre 2010\, nos scientifiques pensaient avoir trouvé une cure. Elle vous fut innoculé de façon auditive à Drug Music.\n\n4 mois plus tard\, comment-avez vous réagi au remède ???\n\nLes chimistes de NHCL et Psychedelic Sanctuary veulent analyser les résultats !!\n\nUn party gratuit de 3 salles.\n\n---------------------------------------------------------------------------------------------\n\nAugust 2010\, an highly dangerous virus escaped. Poor souls who were at The Escape were contaminated.\n\nFor several months\, we tried to find a remedy.\n\nDecember 2010\, our chemists thought they had found a remedy. They inoculated the potion at Drug Music.\n\nNow 4 months later\, how did you react to the remedy ??\n\nThe scientifics of NHCL and Psychedelic Sanctuary would like to see the results.\n\nThe result is a 3 room free party !!\n\n---------------------------------------------------------------------------------------------\n---------------------------------------------------------------------------------------------\n\n\nRESEARCH LAB ( NHCL- Psychedelic Sanctuary - Psytrance) \n\nT.R.O.M. 10H30-12H00\nBorealis 12H00-1H30 \nPsydraulix 1H30-3H00\nDeception 3h-4h30\nPsyrenity 4h30-6h00\nDreamtektor 6h00-7h30\n\n\n---------------------------------------------------------------------------------------------\n\n\nQUARANTINE ZONE ( Renegade Legion - Drum&Bass and more)\n\nField Equation 10h30-12h00\nPink Popo 12h00-1h30\nDorian Grey 1h30-3h00\nSamwise 3h00-4h30\nScrewHead 4h30-6h00\nSickness 6h00-7h30\n\n\n---------------------------------------------------------------------------------------------\n\n\nPHARMACY LAB ( Les Fondateurs - DubStep/ Electro)\nGalactic Dummies 10h30-11h30\nClassic French Extinct 11h30-12h30\n"Backlash b2b HGLDT 12h30-1h30\nGnave http://soundcloud.com/egoodman 1h30-2h30\nDaelow 2h30-3h30\nMazik 3h30-4h30\nEazus 4h30-5h30\n\n---------------------------------------------------------------------------------------------\n---------------------------------------------------------------------------------------------\n\n-------------------------------------------------- ------------------------------------------- \n\nVJ-ING: Projet Foubrak\n\n-------------------------------------------------- ------------------------------------------- \n\n\nCECI EST UN PARTY GRATUIT !\nTHIS IS A FREE PARTY !\n0$\nNo money donation accepted!\nAucune donation monétaire acceptée !\n\nYOU ALREADY PAID FOR THIS PARTY ! \n\nL'alcool et la bière sont toujours bienvenues par contre \;)\n\n\n---------------------------------------------------------------------------------------------\n\n---------------------------------------------------------------------------------------------\n\n\nCette expérimentation aura lieu dans un nouveau laboratoire à Montréal.\n\nPour maintenir le bon équilibre des patients\, on vous fourni une vue panoramique sur toute la ville.\nDe plus\, puisqu'il s'agit d'une expérience hautement controversée\, notre laboratoire est très isolé et nous permettra de tester les remèdes les plus fous !\n\n---------------------------------------------------------------------------------------------\n\nThis experiement will take place in our new lab in Montreal.\nTo keep the patients sane\, we will provide them with a panoramic view on the whole city.\n\nAs this is an highly controversial experiment\, our lab is far from any neighbors and will allow us to try exotics potions.\n\n\n---------------------------------------------------------------------------------------------\n\nFor security measures\, access will be granted only 24h in advance.\nPar mesure de sécurité\, l'accès sera accordé seulement 24h à l'avance.
CLASS:PUBLIC
CATEGORIES:
STATUS:CONFIRMED
PARTSTAT:ACCEPTED
END:VEVENT
END:VCALENDAR
