BEGIN:VCALENDAR
PRODID:RAVE.CA V17.0
X-WR-CALNAME:Ko Drum N Bass Round One
X-ORIGINAL-URL:https://www.rave.ca/event/43239/
VERSION:2.0
CALSCALE:GREGORIAN
METHOD:PUBLISH
BEGIN:VEVENT
DTSTAMP:20110104T204805Z
LAST-MODIFIED:20110104T204805Z
CREATED:20110104T204638Z
SEQUENCE:43239
ORGANIZER:Unknown
DTSTART:20110121T230000Z
DTEND:20110122T030000Z
UID:event_43239@rave.ca
SUMMARY:Ko Drum N Bass Round One
LOCATION:Unknown
URL:https://www.rave.ca/event/43239/
DESCRIPTION:Beat Concierge & Shift Music présentent :\nKO :: ROUND 1 :: 2011\nvendredi le 21 janvier / Friday January 21\, 2010\n---------------------------------------------\nResidents:\n\nGeneric & Qubiq MC\nHuman/Function/Spearhead/Vampire\nhttp://myspace.com/generictm\n\nRCola\nRoyal Crown / JungleXpeditions / Wikkid\nhttp://soundcloud.com/djrcola\nhttp://www.junglex.ca/\n\nSubtone\nDSCI4 / Syndrome Audio / Explicit\nhttp://www.myspace.com/subtone \n---------------------------------------------\nSpecial Guest:\n\nWally\nRisk / Monkey Dub / Forward \n---------------------------------------------\n& Superstar VJ KAI\n---------------------------------------------\nLa soirée dura à 23hrs à 3am\nStarts at 11:00pm\, ends at 3:00am\n---------------------------------------------\nau Petit Campus 57 Prince Arthur Est\n\nentrée : 5$
CLASS:PUBLIC
CATEGORIES:
STATUS:CONFIRMED
PARTSTAT:ACCEPTED
END:VEVENT
END:VCALENDAR
