BEGIN:VCALENDAR
PRODID:RAVE.CA V17.0
X-WR-CALNAME:Dark Tendency: Chosen Few Vs Rob Gee
X-ORIGINAL-URL:https://www.rave.ca/event/43180/
VERSION:2.0
CALSCALE:GREGORIAN
METHOD:PUBLISH
BEGIN:VEVENT
DTSTAMP:20110428T162125Z
LAST-MODIFIED:20110428T162125Z
CREATED:20101206T130739Z
SEQUENCE:43180
ORGANIZER:Kréotik eNt.
DTSTART:20110429T210000Z
DTEND:20110430T073000Z
UID:event_43180@rave.ca
SUMMARY:Dark Tendency: Chosen Few Vs Rob Gee
LOCATION:L'Espace Griffintown
URL:https://www.rave.ca/event/43180/
DESCRIPTION:Location:   http://maps.google.ca/maps?f=d&source=s_d&saddr=Lucien-L'Allier\,+Montreal\,+Quebec&daddr=1314+Rue+Olier\,+Montr%C3%A9al\,+QC+H3C+1W2&hl=en&geocode=FeoxtgIdCmad-yll2KFwaBrJTDFjQl0jYgGoeA%3BFTMitgIdWZWd-ynLMKkIihrJTDGERQMtvO79fA&mra=luc&dirflg=w&sll=45.492593\,-73.563745&sspn=0.005573\,0.01649&ie=UTF8&z=17\n\n**rave HARDCORE & DARK PSYTRANCE rave**\n\n-=-=-=-=-=-=-=-=-=-=-=-=-=-=-=-=-=-=-=-=-=-=-\n\n-Once\, there was peace throughout the land. The meadows grew lush and green\, children would play and people loved each other...\n\nThen\, without warning\, the Abyss emerged from the Underworld. His demons\, finding a dimensional gateway to Earth\, combined their forces with the corrupted and struck\; their darkness enveloping the planet in fear...\n\nNow\, the remaining civilizations must rally together for one last stand of defense\; their only hope: to banish the Abyss from this plane forevermore.\n\nYou have been chosen to join your brothers and sisters in a stand against His tyranny. Only by joining your kin in a night of rebellious music and dance can we hope to overcome the Evil that has plagued our beautiful home...\n\nWe must look deep inside ourselves for the strength we'll need... We must let go of our own dark tendencies... if we hope to ever see the light of day again...\n\n\n -Il était une fois\,la paix règnait sur tout le territoire\, les gens se courtoyaient et s'aimaient. \n\nQuand soudainement\, venues de nul part\, les forces du mal surgissent et s'approprient de la pensée humaine. C'est la noirceur totale qui plane sur la Terre. L'espoir et la lumière sont entre les mains de ceux et celles qui résisteront aux tentations du mal!!\n\n-=-=-=-=-=-=-=-=-=-=-=-=-=-=-=-=-=-=-=-=-=-=-\n\nDecor presented/présenté to you by Psychedelic Sanctuary!\nThey are sure to bring you a dark psychedelic experience like no other!!\nVous allez vivre une expérience noire et psychedelik!!\n\nNo dress code (obviously) but the room will be explosive in Blue\, Purple\, and Black :D\nPas de code vestimentaire mais la salle explosera de bleu\,mauve et noir!\n\n*** Update ***\nNew community decor project in the works! \nKeep your eye out for the white tarps at the upcoming events \;)\n\n-=-=-=-=-=-=-=-=-=-=-=-=-=-=-=-=-=-=-=-=-=-=-=-=-=-=-=-=-=-=-=-\n\nTickets/billet: 10 dollars = February/fév. ***(Sold Out)***\n15 dollars = March-April/mars-avril\n25 dollars = Door/porte\n\n-=-=-=-=-=-=-=-=-=-=-=-=-=-=-=-=-=-=-=-=-=-=-=-=-=-=-=-=-=-=-=-\n\nAdditional Goodies :D (More to follow):\nGardez l'oeil ouvert pour d'autres informations de malade!!\nCheck in for updates as we get new announcements :)\n\nhttp://www.facebook.com/update_security_info.php?wizard=1#!/event.php?eid=146476758747660\nhttp://www.reverbnation.com/robgee\nhttp://www.globalhardcore.net/forum/viewtopic.php?f=81&t=63803\n\nKeep it P.L.U.R. Speaker Freaks ♥\n\nTeh Pixehs \;)\n\n16+\n\n\nBIOGRAPHIES des deux headliners:\n\n\n*CHOSEN FEW*\n\nThe youth of François Prijt aka CHOSEN FEW is turbulent. He grew up in the South East of Amsterdam some call it the ghetto of Amsterdam and in the year 1984 he makes knowledge with electro music and graffiti which blew over from America. This kind of music and the graffiti was very important for the rest of his music career. After his parents bought a Commodore 64 for him\, he began making music. After a while he bought a Amiga 500 inspired through what others with this device can produce\, he was fully surrendered in the music. In the beginning\, this was mainly hip hop and breakbeat and drum & bass. In 1989\, he bought his Technics SL1200 turn tables\, and after two months of practice he had the art of the mixing in his hands. At the end of 1991 François began playing hardcore\, and became a resident dj in a small club on the Amsterdam red light district. On this he builds up a large multitude fans\, and from that moment it goes fast. In 1993 together with DJ Dano and The Prophet he got his first booking outside of Holland to Austria\, the bookings streamed in. Hardcore and Gabber freaks globally pay homage to the name chosen few playing events such as Mayday in Berlin\, Mayhem and Enchanted in Australia\, Thunderdome 1994 in Utrecht and 15 years of Thunderdome 2008\, Hellraiser in Amsterdam and Resurrection in Scotland\, the biggest club in Europe ‘Number One’ in Italy\, Poland\, the United States\, Sweden\, Switzerland etc. - the man has an ambition to visit all the biggest events in every country all over the world\, keeping the real hardcore vibe alive! With huge releases on labels such as Mokum\, Bzrk\, Megarave\, Spleen Kick\, h20h recordings and more\, it is not hard to understand why this man is one of the hardest acts on this planet! The styles of Dj Chosen Few is a mix of early hardcore techno\, up-tempo hardcore & a twist of drum&bass.\n\n\n*ROB GEE* \n\nIs famous all across The Universe as "the hardest DJ to ever play the Limelight in NYC." In the club's early 90's heyday\, the versatile GEE kept delirious audiences going through spinning at Limelight's "FutureShock" dance/techno nights and performing with his live band as well as spinning at the club's "Rock And Roll Church" metal/ rock/ industrialnights. The crowds kept coming back to Limelight\, just like they did in Australia\, Japan\, Italy\, Spain\, Scotland\, Austria\, Hungary and Belgium to name a few. \n\nGEE is a recurring headliner at Sensation\,Thunderdome\, Mysteryland\, and Love Parade\, where GEE played before one million people. His diverse appeal keeps him performing weekly at all types of musical events and concerts. GEE has shared the stage with everyone from Hatebreed and Biohazard to Crystal Method\, BustaRhymes\, Kurtis Blow\, and Afrika Bambaataa. His GEEness has also has spun at many Slipknot and Korn after parties with his good friend\, DJ Starscream a.k.a. #0 of Slipknot. GEE's history of DJing and live performances shows his dedication of bringing the fusion of organic and electronic music to a wide variety of listeners. GEE's love of hip-hop\, hardcore\, techno\, metal and every other genre for that matter set him apart from the rest. While other DJs make tracks and spin records\, GEE is an Artist who writes original songs. His indecisiveness as to whether or not he wanted to breakdance and spin hip-hop or jump in the mosh pit and play in a metal band was one of the reasons he began to cultivate his own style of both. Rob GEE is the only artist of his kind to collaborate and create with members of respected rock\, metal\, hardcor eand hip-hop acts such as Slipknot\, Hatebreed\, Biohazard\, Wu-Tang Clan\, Cypress Hill\, and System Of A Down (just to name a few) creating a unification of Rock\, Electronic\, & Metal as well any other style GEE chooses to use. The GEEsult is Rob GEE gabber music. Rob GEE says\, "There are no boundaries in music" . \n\nGEE is writing history launching gabber into the scene of the galaxy......\n\n"The Gabber Guru\," as GEE is known\, gained worldwide fame after the release of "Ecstasy You Got What I Need". The song went Gold and was the #1 video on The Box for 13 straight weeks. At the same time\, "Ecstasy" rose to #9 on the pop charts and earned him BestArtist\, Best Producer and Best Song of the year at The Thunder Awards in Holland. \n\nThe GEE Man has recently enjoyed radio and video success along with his bandmates in ROB GEE with their latest album\, "THE GREAT AMERICAN MELTING" . ROB GEE is currently writing & GEEcording in The StuGEEo their next album titled "COCKADOODLEDOO"due out later in 2011.
CLASS:PUBLIC
CATEGORIES:
STATUS:CONFIRMED
PARTSTAT:ACCEPTED
END:VEVENT
END:VCALENDAR
