BEGIN:VCALENDAR
PRODID:RAVE.CA V17.0
X-WR-CALNAME:La St Valenteuf !!!!
X-ORIGINAL-URL:https://www.rave.ca/event/42678/
VERSION:2.0
CALSCALE:GREGORIAN
METHOD:PUBLISH
BEGIN:VEVENT
DTSTAMP:20110212T024808Z
LAST-MODIFIED:20110212T024808Z
CREATED:20101108T063125Z
SEQUENCE:42678
ORGANIZER:HARDTIMES
DTSTART:20110212T220000Z
DTEND:20110213T080000Z
UID:event_42678@rave.ca
SUMMARY:La St Valenteuf !!!!
LOCATION:3810 st patrick
URL:https://www.rave.ca/event/42678/
DESCRIPTION:Ce samedi 12 fevrier vous avez un rendevous ak nos speaker\npour feter la st valentin en grand\n\n**************************************************\n\n\nMUR DE SON !!!\nVISUELS TEKNOFUCKES\nDECO TEKNOIDEUNDERGROUND \nBAR PIñATA\nMARATEK (3H hardtek NON STOP!)\nLINE UP DE FOU\n+ ... (vous allez voir) :D\n\n\n*************************************************\n\nSaturday the 12 feb. we invite you out on a date with our speakers\nin this special ocation to party st valentines style\n\nWALL OF SOUND !!!\nCRAZY VISUALS\nBAD ASS DECO \n+ MOAR!\n\n\n\n\n-------------------------***BEAT***-------------------------\n\n10h-minimal HardTimes orgy\n11h-anok (psy)\n12h-disfunkional brain (psy)\n1h-Alien-A (psy)\n2h-medouksasor (live electro break) \n3h-Nocide Vs. Black Kat (mashup dnb/dub)\n4h-Dr.Son Vs Erratique Vs Rodroid ( special 3hrs Hardtek/Hardfloor/Tribe set (TRIATEK))\n7h-toulmonde dehors! on range (after TBA)\n\n-------------------------------------------------------------------\n\n\n\n*******Cover :*******\nA la porte.  \n\nFilles- 10$\nGars- 15$\nAvec Valentin ♥- 20$\n\n\nPrennez note. \nHardtimes est une Krew au but non lucratif\nvous voulez dla free partee?\ncet evenement grace a vous\nauras lieu dans le but d'ammasser des fonds pr monter un soundsystem\nVOTRE soundsystem\n\nsupport les sound6tem locaux!\nfree party is not a crime!\nD.I.Y!!
CLASS:PUBLIC
CATEGORIES:
STATUS:CONFIRMED
PARTSTAT:ACCEPTED
END:VEVENT
END:VCALENDAR
