BEGIN:VCALENDAR
PRODID:RAVE.CA V17.0
X-WR-CALNAME:Mort 2011
X-ORIGINAL-URL:https://www.rave.ca/event/42653/
VERSION:2.0
CALSCALE:GREGORIAN
METHOD:PUBLISH
BEGIN:VEVENT
DTSTAMP:20130225T124237Z
LAST-MODIFIED:20130225T124237Z
CREATED:20101103T184901Z
SEQUENCE:42653
ORGANIZER:Kréotik eNt.
DTSTART:20111028T200000Z
DTEND:20111028T200000Z
UID:event_42653@rave.ca
SUMMARY:Mort 2011
LOCATION:Espace Des Arts
URL:https://www.rave.ca/event/42653/
DESCRIPTION:!!HALLOWEEN MADNESS!!\n\nCette année\,en ce week-end d'Halloween\, MORT revient nous hanter toute la nuit!!
CLASS:PUBLIC
CATEGORIES:
STATUS:CONFIRMED
PARTSTAT:ACCEPTED
END:VEVENT
END:VCALENDAR
